Workbook

Sheet 記入方法
A1: 記入方法
B2: ２つのシート（請求書及び在籍児童一覧）の色付きセルに必要事項を記入すると、金額が自動計算されます。
A4: ＜請求書について＞
B5: 振込先の口座に記入漏れや誤りが無いか確認してください。
B6: 複数月分の請求書を1枚にまとめて作成する（一括請求する）場合、請求期間内に園全体での在籍児童数・加算項目の変動があると正しい金額になりません。
B7: 変動がある場合や、月途中入退所児童がいる場合は、必ずファイルを分けて各月分の請求書を作成してください。
A9: ＜在籍児童一覧について＞
B10: 在籍児童一覧の「年齢」及び「認定区分」が未記入の場合、自動計算がされません。必ず記入してください。
B11: 行を追加したい場合は、必ず増やしたい行をコピーしてから「コピーしたセルを挿入」を選択してください。ただ行を挿入するだけでは、計算式が働かなくなってしまいます。
B12: 副食費の徴収免除対象者がいる場合、副食費徴収免除加算の「対象の有無」の欄で〇を選択してください。
B13: 月途中退所の児童がいた場合は、「月途中退所の有無」で○を選択し、下部の表に以下の通り在籍中開所日数を記入してください。（上段・下段どちらでもかまいません。）
B14: ●例１ 3歳児クラスの児童（標準時間認定・副食費徴収免除対象外）が、月途中退園した場合
B15: 保育標準時間認定子ども | C15: ＜児童数＞ | L15: ５歳児 | N15: ４歳児 | P15: ３歳児 | R15: ２歳 | T15: １歳 | V15: 乳児
C16: 請求先市区町村の児童 | L16: 20 | N16: 19 | P16: 13 | R16: 6 | T16: 6 | V16: 3
C17: （月途中退所児童及び副食費徴収免除対象者を除く）
C18: 請求先市区町村の児童 | L18: 0 | N18: 1 | P18: 2 | Y18: 自動入力のため記入不要
C19: （月途中退所児童を除き副食費徴収免除対象者に限る）
C20: 請求先市区町村の児童数 （月途中退所児童に限る） | L20: 0 | N20: 0 | P20: 1 | R20: 0 | T20: 0 | V20: 0
C23: ＜月途中退所児童の在籍中開所日数＞ | L23: ５歳児 | N23: ４歳児 | P23: ３歳児 | R23: ２歳 | T23: １歳 | V23: 乳児
C24: 請求先市区町村の児童 | P24: 12
C25: （月途中退所児童のうち、副食費徴収免除対象者を除く） | Y25: 途中退所の児童がいない場合は記入不要
C26: 請求先市区町村の児童
C27: （月途退所児童で、かつ、副食費徴収免除対象者であるもの）
B29: ●例２ ４歳児クラスの双子の児童（標準時間認定・副食費徴収免除対象）が、月途中退園した場合
B30: 保育標準時間認定子ども | C30: ＜児童数＞ | L30: ５歳児 | N30: ４歳児 | P30: ３歳児 | R30: ２歳 | T30: １歳 | V30: 乳児
C31: 請求先市区町村の児童 | L31: 20 | N31: 19 | P31: 13 | R31: 6 | T31: 6 | V31: 3
C32: （月途中退所児童及び副食費徴収免除対象者を除く）
C33: 請求先市区町村の児童 | L33: 0 | N33: 1 | P33: 2 | Y33: 自動入力のため記入不要
C34: （月途中退所児童を除き副食費徴収免除対象者に限る）
C35: 請求先市区町村の児童数 （月途中退所児童に限る） | L35: 0 | N35: 0 | P35: 1 | R35: 0 | T35: 0 | V35: 0
C38: ＜月途中退所児童の在籍中開所日数＞ | L38: ５歳児 | N38: ４歳児 | P38: ３歳児 | R38: ２歳 | T38: １歳 | V38: 乳児
C39: 請求先市区町村の児童
C40: （月途中退所児童のうち、副食費徴収免除対象者を除く） | Y40: 途中退所の児童がいない場合は記入不要
C41: 請求先市区町村の児童 | N41: 17
C42: （月途退所児童で、かつ、副食費徴収免除対象者であるもの） | N42: 17

Sheet 請求書（保育所）
A1: ＜保育所＞ | T1: 2024 | V1: 年 | W1: 4 | X1: 月 | Y1: 1 | Z1: 日 | AA1: 2021 | AB1: 2022 | AC1: 2023 | AD1: 2024 | AE1: 2025 | AF1: 2026 | AG1: 2027 | AH1: 2028 | AI1: 2029 | AJ1: 2030
AA2: 1 | AB2: 2 | AC2: 3 | AD2: 4 | AE2: 5 | AF2: 6 | AG2: 7 | AH2: 8 | AI2: 9 | AJ2: 10 | AK2: 11 | AL2: 12
A3: 子どものための教育・保育給付等請求書 | AA3: 1 | AB3: 2 | AC3: 3 | AD3: 4 | AE3: 5 | AF3: 6 | AG3: 7 | AH3: 8 | AI3: 9 | AJ3: 10 | AK3: 11 | AL3: 12 | AM3: 13 | AN3: 14 | AO3: 15 | AP3: 16 | AQ3: 17 | AR3: 18 | AS3: 19 | AT3: 20 | AU3: 21 | AV3: 22 | AW3: 23 | AX3: 24 | AY3: 25 | AZ3: 26 | BA3: 27 | BB3: 28 | BC3: 29 | BD3: 30 | BE3: 31
H4: （ | I4: 2024 | K4: 年度 | M4: 4 | N4: 月 | O4: ～ | P4: 4 | Q4: 月分 | T4: ）
B6: 新座市長 並木 傑 宛て | AA6: 子どものための教育・保育給付請求書 | AB6: 子どものための教育・保育給付等請求書 | AC6: 私立保育所に係る委託費請求書 | AD6: 私立保育所に係る委託費等請求書
H8: ＜請求者＞
H9: 設置者・事業者名 | O9: ○○法人 ○○
H10: 代表者職/氏名 | O10: ○○ ○○
H11: 設置者・事業者所在地 | O11: ○○県○○市○○
H12: 施設・事業所所在地 | O12: ○○県○○市○○
H13: 施設・事業所名 | O13: ○〇保育園
H14: 請求書発行責任者氏名 | O14: ○○ ○○
H15: 請求書発行責任者連絡先 | O15: ○○-○○○○-○○○○
A17: 子ども・子育て支援法附則第６条の規定に基づき、次のとおり私立保育所に係る委託費を請求します。 | AA17: 子ども・子育て支援法第27条（及び第28条）の規定に基づき、次のとおり子どものための教育・保育給付を請求します。 | AB17: 子ども・子育て支援法第27条（及び第28条）等の規定に基づき、次のとおり子どものための教育・保育給付等を請求します。 | AC17: 子ども・子育て支援法附則第６条の規定に基づき、次のとおり私立保育所に係る委託費を請求します。 | AD17: 子ども・子育て支援法附則第６条等の規定に基づき、次のとおり私立保育所に係る委託費等を請求します。 | AE17: 子ども・子育て支援法第29条（及び第30条）の規定に基づき、次のとおり子どものための教育・保育給付を請求します。 | AF17: 子ども・子育て支援法第29条（及び第30条）等の規定に基づき、次のとおり子どものための教育・保育給付等を請求します。
A20: １．請求金額 | I20: 金 | J20: =SUM(N22:T24) -> 0 | U20: 円
B21: ＜内訳＞
C22: 子どものための教育・保育給付 | M22: 金 | N22: =I391 -> 0 | U22: 円
C23: 自治体独自加算 | M23: 金 | U23: 円
C24: その他 | M24: 金 | U24: 円
A26: ２．振込先
B27: フリガナ | F27: ○○ホウジン ○○
B28: 口座名義人 | F28: ○○法人 ○○
B29: 振込先金融機関 （コード番号） | F29: ○○ | N29: 銀行 | Q29: 本 | W29: (支)店 | AA29: 銀行 | AB29: 金庫 | AC29: 組合
AA30: (支)店 | AB30: 出張所
F31: 金融機関コード | L31: 1111 | Q31: 支店コード | U31: 111
B32: 預金種目 | F32: 普通 | L32: 口座番号 | O32: 1111111 | AA32: 普通 | AB32: 当座
B33: 債権者コード (新座市で登録がある場合のみ記載) | F33: 1111
B34: （委任欄） | E34: ※請求者と振込口座の名義人が異なる場合のみ記入
B35: =B6 -> 新座市長 並木 傑 宛て
C36: 本件については上記名義人宛振込願います。
F37: （委任者） | I37: 事業者名 | O37: =O9 -> ○○法人 ○○
I38: 代表者職/氏名 | O38: =O10 -> ○○ ○○
I39: 事業者所在地 | O39: =O11 -> ○○県○○市○○
F41: （受任者） | I41: 事業者名 | O41: ○○法人 ○○
I42: 代表者職/氏名 | O42: ○○ ○○
I43: 事業者所在地 | O43: ○○県○○市○○
A44: ＜添付書類＞
B45: 私立保育所に係る委託費を請求するための明細書（私立保育所に係る委託費請求明細書） | AB45: 子どものための教育・保育給付を請求するための明細書（子どものための教育・保育給付請求明細書） | AC45: 私立保育所に係る委託費を請求するための明細書（私立保育所に係る委託費請求明細書） | AD45: 明細書に係る在籍児童の一覧（在籍児童一覧） | AE45: その他市区町村長が必要と認める書類（○○○○○） | AF45: -
B46: 明細書に係る在籍児童の一覧（在籍児童一覧）
B47: その他市区町村長が必要と認める書類（○○○○○）
...

Sheet 在籍児童一覧（保育所）
A1: 在籍児童一覧（保育所） | P1: ='請求書（保育所）'!U82 -> 4 | Q1: 月 | R1: ～ | S1: ='請求書（保育所）'!X82 -> 4 | T1: 月分
A2: 施設・事業所名 | F2: ='請求書（保育所）'!O13 -> ○〇保育園
A4: ※新座市民のみ記入
A5: ※年齢は年度の初日の前日における満年齢を記入 | AF5: 中心園（標準） | AU5: 中心園（短時間） | BM5: 中心園（教育） | BY5: 分園（標準） | CN5: 分園（短時間） | DC5: 分園（教育）
A6: No. | C6: 児童氏名 | F6: 年齢 | G6: 標準／短時間／教育 | I6: 分園 | K6: 月途中入退所のあった児童のみ | Q6: 副食費徴収 免除加算 | AA6: 月途中入退所児童の区分 | AE6: 月途中入退所のない児童 | AF6: 月途中入退所のない児童で、かつ、副食費徴収免除対象者でないもの | AL6: 月途中入退所のない児童で、かつ、副食費徴収免除対象者であるもの | AO6: 途中入退所児童 | AU6: 月途中入退所のない児童で、かつ、副食費徴収免除対象者でないもの | BA6: 月途中入退所のない児童で、かつ、副食費徴収免除対象者であるもの | BG6: 途中入退所児童 | BM6: 月途中入退所のない児童で、かつ、副食費徴収免除対象者でないもの | BQ6: 月途中入退所のない児童で、かつ、副食費徴収免除対象者であるもの | BU6: 月途中入退所児童 | BY6: 月途中入退所のない児童で、かつ、副食費徴収免除対象者でないもの | CE6: 月途中入退所のない児童で、かつ、副食費徴収免除対象者であるもの | CH6: 途中入退所児童 | CN6: 月途中入退所のない児童で、かつ、副食費徴収免除対象者でないもの | CT6: 月途中入退所のない児童で、かつ、副食費徴収免除対象者であるもの | CW6: 途中入退所児童 | DC6: 月途中入退所のない児童で、かつ、副食費徴収免除対象者でないもの | DG6: 月途中入退所のない児童で、かつ、副食費徴収免除対象者であるもの | DK6: 月途中入退所児童
K7: 月途中入所の有無 | M7: 月途中退所の有無 | O7: 在籍中開所 日数 | AA7: A | AB7: B | AC7: C | AD7: D
Q8: 対象の有無 | S8: その他 | AF8: ５歳 | AG8: ４歳 | AH8: ３歳 | AI8: ２歳 | AJ8: １歳 | AK8: 乳児 | AL8: ５歳 | AM8: ４歳 | AN8: ３歳 | AO8: ５歳 | AP8: ４歳 | AQ8: ３歳 | AR8: ２歳 | AS8: １歳 | AT8: 乳児 | AU8: ５歳 | AV8: ４歳 | AW8: ３歳 | AX8: ２歳 | AY8: １歳 | AZ8: 乳児 | BA8: ５歳 | BB8: ４歳 | BC8: ３歳 | BD8: ２歳 | BE8: １歳 | BF8: 乳児 | BG8: ５歳 | BH8: ４歳 | BI8: ３歳 | BJ8: ２歳 | BK8: １歳 | BL8: 乳児 | BM8: ５歳 | BN8: ４歳 | BO8: ３歳 | BP8: ２歳 | BQ8: ５歳 | BR8: ４歳 | BS8: ３歳 | BT8: ２歳 | BU8: ５歳 | BV8: ４歳 | BW8: ３歳 | BX8: ２歳 | BY8: ５歳 | BZ8: ４歳 | CA8: ３歳 | CB8: ２歳 | CC8: １歳 | CD8: 乳児 | CE8: ５歳 | CF8: ４歳 | CG8: ３歳 | CH8: ５歳 | CI8: ４歳 | CJ8: ３歳 | CK8: ２歳 | CL8: １歳 | CM8: 乳児 | CN8: ５歳 | CO8: ４歳 | CP8: ３歳 | CQ8: ２歳 | CR8: １歳 | CS8: 乳児 | CT8: ５歳 | CU8: ４歳 | CV8: ３歳 | CW8: ５歳 | CX8: ４歳 | CY8: ３歳 | CZ8: ２歳 | DA8: １歳 | DB8: 乳児 | DC8: ５歳 | DD8: ４歳 | DE8: ３歳 | DF8: ２歳 | DG8: ５歳 | DH8: ４歳 | DI8: ３歳 | DJ8: ２歳 | DK8: ５歳 | DL8: ４歳 | DM8: ３歳 | DN8: ２歳
A10: =ROW()-9 -> 1 | C10: ○○ ○○ | U10: =IF(O10="","",IF(AND(G10="標準",OR(M10="○",K10="○"),I10=""),"※下表に記載必要箇所あり(①)",IF(AND(G10="標準",M10="○",I10="分園"),"※下表に記載必要箇所あり(③)",IF(AND(G10="短時間",OR(M10="○",K10="○"),I10=""),"※下表に記載必要箇所あり(②)","※下表に記載必要箇所あり(④)")))) | AA10: =IF(AND(K10="○",Q10=""),"A","") | AB10: =IF(AND(K10="○",Q10="○"),"B","") | AC10: =IF(AND(K10="",M10="○",Q10=""),"C","") | AD10: =IF(AND(K10="",M10="○",Q10="○"),"D","") | AE10: =IF(OR(K10="○",M10="○"),"","○") -> ○ | AF10: =IF(AND(F10="５歳",G10="標準",I10="",AE10="○",Q10=""),"○","") | AG10: =IF(AND(F10="４歳",G10="標準",I10="",AE10="○",Q10=""),"○","") | AH10: =IF(AND(F10="３歳",G10="標準",I10="",AE10="○",Q10=""),"○","") | AI10: =IF(AND(F10="２歳",G10="標準",I10="",AE10="○",Q10=""),"○","") | AJ10: =IF(AND(F10="１歳",G10="標準",I10="",AE10="○",Q10=""),"○","") | AK10: =IF(AND(F10="乳児",G10="標準",I10="",AE10="○",Q10=""),"○","") | AL10: =IF(AND(F10="５歳",G10="標準",I10="",AE10="○",Q10="○"),"○","") | AM10: =IF(AND(F10="４歳",G10="標準",I10="",AE10="○",Q10="○"),"○","") | AN10: =IF(AND(F10="３歳",G10="標準",I10="",AE10="○",Q10="○"),"○","") | AO10: =IF(AND(F10="５歳",G10="標準",O10>0),"○","") | AP10: =IF(AND(F10="４歳",G10="標準",O10>0),"○","") | AQ10: =IF(AND(F10="３歳",G10="標準",O10>0),"○","") | AR10: =IF(AND(F10="２歳",G10="標準",O10>0),"○","") | AS10: =IF(AND(F10="１歳",G10="標準",O10>0),"○","") | AT10: =IF(AND(F10="乳児",G10="標準",O10>0),"○","") | AU10: =IF(AND(F10="５歳",G10="短時間",I10="",AE10="○",Q10=""),"○","") | AV10: =IF(AND(F10="４歳",G10="短時間",I10="",AE10="○",Q10=""),"○","") | AW10: =IF(AND(F10="３歳",G10="短時間",I10="",AE10="○",Q10=""),"○","") | AX10: =IF(AND(F10="２歳",G10="短時間",I10="",AE10="○",Q10=""),"○","") | AY10: =IF(AND(F10="１歳",G10="短時間",I10="",AE10="○",Q10=""),"○","") | AZ10: =IF(AND(F10="乳児",G10="短時間",I10="",AE10="○",Q10=""),"○","") | BA10: =IF(AND(F10="５歳",G10="短時間",I10="",AE10="○",Q10="○"),"○","") | BB10: =IF(AND(F10="４歳",G10="短時間",I10="",AE10="○",Q10="○"),"○","") | BC10: =IF(AND(F10="３歳",G10="短時間",I10="",AE10="○",Q10="○"),"○","") | BD10: =IF(AND(F10="２歳",G10="短時間",I10="",AE10="○",Q10="○"),"○","") | BE10: =IF(AND(F10="１歳",G10="短時間",I10="",AE10="○",Q10="○"),"○","") | BF10: =IF(AND(F10="乳児",G10="短時間",I10="",AE10="○",Q10="○"),"○","") | BG10: =IF(AND(F10="５歳",G10="短時間",I10="",O10>0),"○","") | BH10: =IF(AND(F10="４歳",G10="短時間",I10="",O10>0),"○","") | BI10: =IF(AND(F10="３歳",G10="短時間",I10="",O10>0),"○","") | BJ10: =IF(AND(F10="２歳",G10="短時間",I10="",O10>0),"○","") | BK10: =IF(AND(F10="１歳",G10="短時間",I10="",O10>0),"○","") | BL10: =IF(AND(F10="乳児",G10="短時間",I10="",O10>0),"○","") | BM10: =IF(AND(F10="５歳",I10="",AE10="○",Q10="",),"○","") | BN10: =IF(AND(F10="４歳",I10="",AE10="○",Q10="",),"○","") | BO10: =IF(AND(F10="３歳",I10="",AE10="○",Q10="",),"○","") | BP10: =IF(AND(F10="２歳",I10="",AE10="○",Q10="",),"○","") | BQ10: =IF(AND(F10="５歳",I10="",AE10="○",Q10="○",),"○","") | BR10: =IF(AND(F10="４歳",I10="",AE10="○",Q10="○",),"○","") | BS10: =IF(AND(F10="３歳",I10="",AE10="○",Q10="○",),"○","") | BT10: =IF(AND(F10="２歳",I10="",AE10="○",Q10="○",),"○","") | BU10: =IF(AND(F10="５歳",G10="教育",O10>0),"○","") | BV10: =IF(AND(F10="４歳",G10="教育",O10>0),"○","") | BW10: =IF(AND(F10="３歳",G10="教育",O10>0),"○","") | BX10: =IF(AND(F10="２歳",G10="教育",O10>0),"○","") | BY10: =IF(AND(F10="５歳",G10="標準",I10="分園",AE10="○",Q10=""),"○","") | BZ10: =IF(AND(F10="４歳",G10="標準",I10="分園",AE10="○",Q10=""),"○","") | CA10: =IF(AND(F10="３歳",G10="標準",I10="分園",AE10="○",Q10=""),"○","") | CB10: =IF(AND(F10="２歳",G10="標準",I10="分園",AE10="○",Q10=""),"○","") | CC10: =IF(AND(F10="１歳",G10="標準",I10="分園",AE10="○",Q10=""),"○","") | CD10: =IF(AND(F10="乳児",G10="標準",I10="分園",AE10="○",Q10=""),"○","") | CE10: =IF(AND(F10="５歳",G10="標準",I10="分園",AE10="○",Q10="○"),"○","") | CF10: =IF(AND(F10="４歳",G10="標準",I10="分園",AE10="○",Q10="○"),"○","") | CG10: =IF(AND(F10="３歳",G10="標準",I10="分園",AE10="○",Q10="○"),"○","") | CH10: =IF(AND(F1416="５歳",G10="教育",I10="分園",O10>0),"○","") | CI10: =IF(AND(F1416="４歳",G10="教育",I10="分園",O10>0),"○","") | CJ10: =IF(AND(F1416="３歳",G10="教育",I10="分園",O10>0),"○","") | CK10: =IF(AND(F1416="２歳",G10="教育",I10="分園",O10>0),"○","") | CL10: =IF(AND(F1416="１歳",G10="教育",I10="分園",O10>0),"○","") | CM10: =IF(AND(F1416="乳児",G10="教育",I10="分園",O10>0),"○","") | CN10: =IF(AND(F10="５歳",G10="短時間",I10="分園",AE10="○",Q10=""),"○","") | CO10: =IF(AND(F10="４歳",G10="短時間",I10="分園",AE10="○",Q10=""),"○","") | CP10: =IF(AND(F10="３歳",G10="短時間",I10="分園",AE10="○",Q10=""),"○","") | CQ10: =IF(AND(F10="２歳",G10="短時間",I10="分園",AE10="○",Q10=""),"○","") | CR10: =IF(AND(F10="１歳",G10="短時間",I10="分園",AE10="○",Q10=""),"○","") | CS10: =IF(AND(F10="乳児",G10="短時間",I10="分園",AE10="○",Q10=""),"○","") | CT10: =IF(AND(F10="５歳",G10="短時間",I10="分園",AE10="○",Q10="○"),"○","") | CU10: =IF(AND(F10="４歳",G10="短時間",I10="分園",AE10="○",Q10="○"),"○","") | CV10: =IF(AND(F10="３歳",G10="短時間",I10="分園",AE10="○",Q10="○"),"○","") | CW10: =IF(AND(F10="５歳",G10="短時間",I10="分園",O10>0),"○","") | CX10: =IF(AND(F10="４歳",G10="短時間",I10="分園",O10>0),"○","") | CY10: =IF(AND(F10="３歳",G10="短時間",I10="分園",O10>0),"○","") | CZ10: =IF(AND(F10="２歳",G10="短時間",I10="分園",O10>0),"○","") | DA10: =IF(AND(F10="１歳",G10="短時間",I10="分園",O10>0),"○","") | DB10: =IF(AND(F10="乳児",G10="短時間",I10="分園",O10>0),"○","") | DC10: =IF(AND(F10="５歳",G10="教育",I10="分園",AE10="○",Q10="",),"○","") | DD10: =IF(AND(F10="４歳",G10="教育",I10="分園",AE10="○",Q10="",),"○","") | DE10: =IF(AND(F10="３歳",G10="教育",I10="分園",AE10="○",Q10="",),"○","") | DF10: =IF(AND(F10="２歳",G10="教育",I10="分園",AE10="○",Q10="",),"○","") | DG10: =IF(AND(F10="５歳",G10="教育",I10="分園",AE10="○",Q10="○",),"○","") | DH10: =IF(AND(F10="４歳",G10="教育",I10="分園",AE10="○",Q10="○",),"○","") | DI10: =IF(AND(F10="３歳",G10="教育",I10="分園",AE10="○",Q10="○",),"○","") | DJ10: =IF(AND(F10="２歳",G10="教育",I10="分園",AE10="○",Q10="○",),"○","") | DK10: =IF(AND(F10="５歳",G10="教育",I10="分園",O10>0),"○","") | DL10: =IF(AND(F10="４歳",G10="教育",I10="分園",O10>0),"○","") | DM10: =IF(AND(F10="３歳",G10="教育",I10="分園",O10>0),"○","") | DN10: =IF(AND(F10="２歳",G10="教育",I10="分園",O10>0),"○","") | DO10: 乳児 | DP10: １歳 | DQ10: ２歳 | DR10: ３歳 | DS10: ４歳 | DT10: ５歳
A11: =ROW()-9 -> 2 | U11: =IF(O11="","",IF(AND(G11="標準",OR(M11="○",K11="○"),I11=""),"※下表に記載必要箇所あり(①)",IF(AND(G11="標準",M11="○",I11="分園"),"※下表に記載必要箇所あり(③)",IF(AND(G11="短時間",OR(M11="○",K11="○"),I11=""),"※下表に記載必要箇所あり(②)","※下表に記載必要箇所あり(④)")))) | AA11: =IF(AND(K11="○",Q11=""),"A","") | AB11: =IF(AND(K11="○",Q11="○"),"B","") | AC11: =IF(AND(K11="",M11="○",Q11=""),"C","") | AD11: =IF(AND(K11="",M11="○",Q11="○"),"D","") | AE11: =IF(OR(K11="○",M11="○"),"","○") -> ○ | AF11: =IF(AND(F11="５歳",G11="標準",I11="",AE11="○",Q11=""),"○","") | AG11: =IF(AND(F11="４歳",G11="標準",I11="",AE11="○",Q11=""),"○","") | AH11: =IF(AND(F11="３歳",G11="標準",I11="",AE11="○",Q11=""),"○","") | AI11: =IF(AND(F11="２歳",G11="標準",I11="",AE11="○",Q11=""),"○","") | AJ11: =IF(AND(F11="１歳",G11="標準",I11="",AE11="○",Q11=""),"○","") | AK11: =IF(AND(F11="乳児",G11="標準",I11="",AE11="○",Q11=""),"○","") | AL11: =IF(AND(F11="５歳",G11="標準",I11="",AE11="○",Q11="○"),"○","") | AM11: =IF(AND(F11="４歳",G11="標準",I11="",AE11="○",Q11="○"),"○","") | AN11: =IF(AND(F11="３歳",G11="標準",I11="",AE11="○",Q11="○"),"○","") | AO11: =IF(AND(F11="５歳",G11="標準",O11>0),"○","") | AP11: =IF(AND(F11="４歳",G11="標準",O11>0),"○","") | AQ11: =IF(AND(F11="３歳",G11="標準",O11>0),"○","") | AR11: =IF(AND(F11="２歳",G11="標準",O11>0),"○","") | AS11: =IF(AND(F11="１歳",G11="標準",O11>0),"○","") | AT11: =IF(AND(F11="乳児",G11="標準",O11>0),"○","") | AU11: =IF(AND(F11="５歳",G11="短時間",I11="",AE11="○",Q11=""),"○","") | AV11: =IF(AND(F11="４歳",G11="短時間",I11="",AE11="○",Q11=""),"○","") | AW11: =IF(AND(F11="３歳",G11="短時間",I11="",AE11="○",Q11=""),"○","") | AX11: =IF(AND(F11="２歳",G11="短時間",I11="",AE11="○",Q11=""),"○","") | AY11: =IF(AND(F11="１歳",G11="短時間",I11="",AE11="○",Q11=""),"○","") | AZ11: =IF(AND(F11="乳児",G11="短時間",I11="",AE11="○",Q11=""),"○","") | BA11: =IF(AND(F11="５歳",G11="短時間",I11="",AE11="○",Q11="○"),"○","") | BB11: =IF(AND(F11="４歳",G11="短時間",I11="",AE11="○",Q11="○"),"○","") | BC11: =IF(AND(F11="３歳",G11="短時間",I11="",AE11="○",Q11="○"),"○","") | BD11: =IF(AND(F11="２歳",G11="短時間",I11="",AE11="○",Q11="○"),"○","") | BE11: =IF(AND(F11="１歳",G11="短時間",I11="",AE11="○",Q11="○"),"○","") | BF11: =IF(AND(F11="乳児",G11="短時間",I11="",AE11="○",Q11="○"),"○","") | BG11: =IF(AND(F11="５歳",G11="短時間",I11="",O11>0),"○","") | BH11: =IF(AND(F11="４歳",G11="短時間",I11="",O11>0),"○","") | BI11: =IF(AND(F11="３歳",G11="短時間",I11="",O11>0),"○","") | BJ11: =IF(AND(F11="２歳",G11="短時間",I11="",O11>0),"○","") | BK11: =IF(AND(F11="１歳",G11="短時間",I11="",O11>0),"○","") | BL11: =IF(AND(F11="乳児",G11="短時間",I11="",O11>0),"○","") | BM11: =IF(AND(F11="５歳",I11="",AE11="○",Q11="",),"○","") | BN11: =IF(AND(F11="４歳",I11="",AE11="○",Q11="",),"○","") | BO11: =IF(AND(F11="３歳",I11="",AE11="○",Q11="",),"○","") | BP11: =IF(AND(F11="２歳",I11="",AE11="○",Q11="",),"○","") | BQ11: =IF(AND(F11="５歳",I11="",AE11="○",Q11="○",),"○","") | BR11: =IF(AND(F11="４歳",I11="",AE11="○",Q11="○",),"○","") | BS11: =IF(AND(F11="３歳",I11="",AE11="○",Q11="○",),"○","") | BT11: =IF(AND(F11="２歳",I11="",AE11="○",Q11="○",),"○","") | BU11: =IF(AND(F11="５歳",G11="教育",O11>0),"○","") | BV11: =IF(AND(F11="４歳",G11="教育",O11>0),"○","") | BW11: =IF(AND(F11="３歳",G11="教育",O11>0),"○","") | BX11: =IF(AND(F11="２歳",G11="教育",O11>0),"○","") | BY11: =IF(AND(F11="５歳",G11="標準",I11="分園",AE11="○",Q11=""),"○","") | BZ11: =IF(AND(F11="４歳",G11="標準",I11="分園",AE11="○",Q11=""),"○","") | CA11: =IF(AND(F11="３歳",G11="標準",I11="分園",AE11="○",Q11=""),"○","") | CB11: =IF(AND(F11="２歳",G11="標準",I11="分園",AE11="○",Q11=""),"○","") | CC11: =IF(AND(F11="１歳",G11="標準",I11="分園",AE11="○",Q11=""),"○","") | CD11: =IF(AND(F11="乳児",G11="標準",I11="分園",AE11="○",Q11=""),"○","") | CE11: =IF(AND(F11="５歳",G11="標準",I11="分園",AE11="○",Q11="○"),"○","") | CF11: =IF(AND(F11="４歳",G11="標準",I11="分園",AE11="○",Q11="○"),"○","") | CG11: =IF(AND(F11="３歳",G11="標準",I11="分園",AE11="○",Q11="○"),"○","") | CH11: =IF(AND(F1417="５歳",G11="教育",I11="分園",O11>0),"○","") | CI11: =IF(AND(F1417="４歳",G11="教育",I11="分園",O11>0),"○","") | CJ11: =IF(AND(F1417="３歳",G11="教育",I11="分園",O11>0),"○","") | CK11: =IF(AND(F1417="２歳",G11="教育",I11="分園",O11>0),"○","") | CL11: =IF(AND(F1417="１歳",G11="教育",I11="分園",O11>0),"○","") | CM11: =IF(AND(F1417="乳児",G11="教育",I11="分園",O11>0),"○","") | CN11: =IF(AND(F11="５歳",G11="短時間",I11="分園",AE11="○",Q11=""),"○","") | CO11: =IF(AND(F11="４歳",G11="短時間",I11="分園",AE11="○",Q11=""),"○","") | CP11: =IF(AND(F11="３歳",G11="短時間",I11="分園",AE11="○",Q11=""),"○","") | CQ11: =IF(AND(F11="２歳",G11="短時間",I11="分園",AE11="○",Q11=""),"○","") | CR11: =IF(AND(F11="１歳",G11="短時間",I11="分園",AE11="○",Q11=""),"○","") | CS11: =IF(AND(F11="乳児",G11="短時間",I11="分園",AE11="○",Q11=""),"○","") | CT11: =IF(AND(F11="５歳",G11="短時間",I11="分園",AE11="○",Q11="○"),"○","") | CU11: =IF(AND(F11="４歳",G11="短時間",I11="分園",AE11="○",Q11="○"),"○","") | CV11: =IF(AND(F11="３歳",G11="短時間",I11="分園",AE11="○",Q11="○"),"○","") | CW11: =IF(AND(F11="５歳",G11="短時間",I11="分園",O11>0),"○","") | CX11: =IF(AND(F11="４歳",G11="短時間",I11="分園",O11>0),"○","") | CY11: =IF(AND(F11="３歳",G11="短時間",I11="分園",O11>0),"○","") | CZ11: =IF(AND(F11="２歳",G11="短時間",I11="分園",O11>0),"○","") | DA11: =IF(AND(F11="１歳",G11="短時間",I11="分園",O11>0),"○","") | DB11: =IF(AND(F11="乳児",G11="短時間",I11="分園",O11>0),"○","") | DC11: =IF(AND(F11="５歳",G11="教育",I11="分園",AE11="○",Q11="",),"○","") | DD11: =IF(AND(F11="４歳",G11="教育",I11="分園",AE11="○",Q11="",),"○","") | DE11: =IF(AND(F11="３歳",G11="教育",I11="分園",AE11="○",Q11="",),"○","") | DF11: =IF(AND(F11="２歳",G11="教育",I11="分園",AE11="○",Q11="",),"○","") | DG11: =IF(AND(F11="５歳",G11="教育",I11="分園",AE11="○",Q11="○",),"○","") | DH11: =IF(AND(F11="４歳",G11="教育",I11="分園",AE11="○",Q11="○",),"○","") | DI11: =IF(AND(F11="３歳",G11="教育",I11="分園",AE11="○",Q11="○",),"○","") | DJ11: =IF(AND(F11="２歳",G11="教育",I11="分園",AE11="○",Q11="○",),"○","") | DK11: =IF(AND(F11="５歳",G11="教育",I11="分園",O11>0),"○","") | DL11: =IF(AND(F11="４歳",G11="教育",I11="分園",O11>0),"○","") | DM11: =IF(AND(F11="３歳",G11="教育",I11="分園",O11>0),"○","") | DN11: =IF(AND(F11="２歳",G11="教育",I11="分園",O11>0),"○","") | DO11: ２号 | DP11: ３号 | DQ11: １号
A12: =ROW()-9 -> 3 | U12: =IF(O12="","",IF(AND(G12="標準",OR(M12="○",K12="○"),I12=""),"※下表に記載必要箇所あり(①)",IF(AND(G12="標準",M12="○",I12="分園"),"※下表に記載必要箇所あり(③)",IF(AND(G12="短時間",OR(M12="○",K12="○"),I12=""),"※下表に記載必要箇所あり(②)","※下表に記載必要箇所あり(④)")))) | AA12: =IF(AND(K12="○",Q12=""),"A","") | AB12: =IF(AND(K12="○",Q12="○"),"B","") | AC12: =IF(AND(K12="",M12="○",Q12=""),"C","") | AD12: =IF(AND(K12="",M12="○",Q12="○"),"D","") | AE12: =IF(OR(K12="○",M12="○"),"","○") -> ○ | AF12: =IF(AND(F12="５歳",G12="標準",I12="",AE12="○",Q12=""),"○","") | AG12: =IF(AND(F12="４歳",G12="標準",I12="",AE12="○",Q12=""),"○","") | AH12: =IF(AND(F12="３歳",G12="標準",I12="",AE12="○",Q12=""),"○","") | AI12: =IF(AND(F12="２歳",G12="標準",I12="",AE12="○",Q12=""),"○","") | AJ12: =IF(AND(F12="１歳",G12="標準",I12="",AE12="○",Q12=""),"○","") | AK12: =IF(AND(F12="乳児",G12="標準",I12="",AE12="○",Q12=""),"○","") | AL12: =IF(AND(F12="５歳",G12="標準",I12="",AE12="○",Q12="○"),"○","") | AM12: =IF(AND(F12="４歳",G12="標準",I12="",AE12="○",Q12="○"),"○","") | AN12: =IF(AND(F12="３歳",G12="標準",I12="",AE12="○",Q12="○"),"○","") | AO12: =IF(AND(F12="５歳",G12="標準",O12>0),"○","") | AP12: =IF(AND(F12="４歳",G12="標準",O12>0),"○","") | AQ12: =IF(AND(F12="３歳",G12="標準",O12>0),"○","") | AR12: =IF(AND(F12="２歳",G12="標準",O12>0),"○","") | AS12: =IF(AND(F12="１歳",G12="標準",O12>0),"○","") | AT12: =IF(AND(F12="乳児",G12="標準",O12>0),"○","") | AU12: =IF(AND(F12="５歳",G12="短時間",I12="",AE12="○",Q12=""),"○","") | AV12: =IF(AND(F12="４歳",G12="短時間",I12="",AE12="○",Q12=""),"○","") | AW12: =IF(AND(F12="３歳",G12="短時間",I12="",AE12="○",Q12=""),"○","") | AX12: =IF(AND(F12="２歳",G12="短時間",I12="",AE12="○",Q12=""),"○","") | AY12: =IF(AND(F12="１歳",G12="短時間",I12="",AE12="○",Q12=""),"○","") | AZ12: =IF(AND(F12="乳児",G12="短時間",I12="",AE12="○",Q12=""),"○","") | BA12: =IF(AND(F12="５歳",G12="短時間",I12="",AE12="○",Q12="○"),"○","") | BB12: =IF(AND(F12="４歳",G12="短時間",I12="",AE12="○",Q12="○"),"○","") | BC12: =IF(AND(F12="３歳",G12="短時間",I12="",AE12="○",Q12="○"),"○","") | BD12: =IF(AND(F12="２歳",G12="短時間",I12="",AE12="○",Q12="○"),"○","") | BE12: =IF(AND(F12="１歳",G12="短時間",I12="",AE12="○",Q12="○"),"○","") | BF12: =IF(AND(F12="乳児",G12="短時間",I12="",AE12="○",Q12="○"),"○","") | BG12: =IF(AND(F12="５歳",G12="短時間",I12="",O12>0),"○","") | BH12: =IF(AND(F12="４歳",G12="短時間",I12="",O12>0),"○","") | BI12: =IF(AND(F12="３歳",G12="短時間",I12="",O12>0),"○","") | BJ12: =IF(AND(F12="２歳",G12="短時間",I12="",O12>0),"○","") | BK12: =IF(AND(F12="１歳",G12="短時間",I12="",O12>0),"○","") | BL12: =IF(AND(F12="乳児",G12="短時間",I12="",O12>0),"○","") | BM12: =IF(AND(F12="５歳",I12="",AE12="○",Q12="",),"○","") | BN12: =IF(AND(F12="４歳",I12="",AE12="○",Q12="",),"○","") | BO12: =IF(AND(F12="３歳",I12="",AE12="○",Q12="",),"○","") | BP12: =IF(AND(F12="２歳",I12="",AE12="○",Q12="",),"○","") | BQ12: =IF(AND(F12="５歳",I12="",AE12="○",Q12="○",),"○","") | BR12: =IF(AND(F12="４歳",I12="",AE12="○",Q12="○",),"○","") | BS12: =IF(AND(F12="３歳",I12="",AE12="○",Q12="○",),"○","") | BT12: =IF(AND(F12="２歳",I12="",AE12="○",Q12="○",),"○","") | BU12: =IF(AND(F12="５歳",G12="教育",O12>0),"○","") | BV12: =IF(AND(F12="４歳",G12="教育",O12>0),"○","") | BW12: =IF(AND(F12="３歳",G12="教育",O12>0),"○","") | BX12: =IF(AND(F12="２歳",G12="教育",O12>0),"○","") | BY12: =IF(AND(F12="５歳",G12="標準",I12="分園",AE12="○",Q12=""),"○","") | BZ12: =IF(AND(F12="４歳",G12="標準",I12="分園",AE12="○",Q12=""),"○","") | CA12: =IF(AND(F12="３歳",G12="標準",I12="分園",AE12="○",Q12=""),"○","") | CB12: =IF(AND(F12="２歳",G12="標準",I12="分園",AE12="○",Q12=""),"○","") | CC12: =IF(AND(F12="１歳",G12="標準",I12="分園",AE12="○",Q12=""),"○","") | CD12: =IF(AND(F12="乳児",G12="標準",I12="分園",AE12="○",Q12=""),"○","") | CE12: =IF(AND(F12="５歳",G12="標準",I12="分園",AE12="○",Q12="○"),"○","") | CF12: =IF(AND(F12="４歳",G12="標準",I12="分園",AE12="○",Q12="○"),"○","") | CG12: =IF(AND(F12="３歳",G12="標準",I12="分園",AE12="○",Q12="○"),"○","") | CH12: =IF(AND(F1418="５歳",G12="教育",I12="分園",O12>0),"○","") | CI12: =IF(AND(F1418="４歳",G12="教育",I12="分園",O12>0),"○","") | CJ12: =IF(AND(F1418="３歳",G12="教育",I12="分園",O12>0),"○","") | CK12: =IF(AND(F1418="２歳",G12="教育",I12="分園",O12>0),"○","") | CL12: =IF(AND(F1418="１歳",G12="教育",I12="分園",O12>0),"○","") | CM12: =IF(AND(F1418="乳児",G12="教育",I12="分園",O12>0),"○","") | CN12: =IF(AND(F12="５歳",G12="短時間",I12="分園",AE12="○",Q12=""),"○","") | CO12: =IF(AND(F12="４歳",G12="短時間",I12="分園",AE12="○",Q12=""),"○","") | CP12: =IF(AND(F12="３歳",G12="短時間",I12="分園",AE12="○",Q12=""),"○","") | CQ12: =IF(AND(F12="２歳",G12="短時間",I12="分園",AE12="○",Q12=""),"○","") | CR12: =IF(AND(F12="１歳",G12="短時間",I12="分園",AE12="○",Q12=""),"○","") | CS12: =IF(AND(F12="乳児",G12="短時間",I12="分園",AE12="○",Q12=""),"○","") | CT12: =IF(AND(F12="５歳",G12="短時間",I12="分園",AE12="○",Q12="○"),"○","") | CU12: =IF(AND(F12="４歳",G12="短時間",I12="分園",AE12="○",Q12="○"),"○","") | CV12: =IF(AND(F12="３歳",G12="短時間",I12="分園",AE12="○",Q12="○"),"○","") | CW12: =IF(AND(F12="５歳",G12="短時間",I12="分園",O12>0),"○","") | CX12: =IF(AND(F12="４歳",G12="短時間",I12="分園",O12>0),"○","") | CY12: =IF(AND(F12="３歳",G12="短時間",I12="分園",O12>0),"○","") | CZ12: =IF(AND(F12="２歳",G12="短時間",I12="分園",O12>0),"○","") | DA12: =IF(AND(F12="１歳",G12="短時間",I12="分園",O12>0),"○","") | DB12: =IF(AND(F12="乳児",G12="短時間",I12="分園",O12>0),"○","") | DC12: =IF(AND(F12="５歳",G12="教育",I12="分園",AE12="○",Q12="",),"○","") | DD12: =IF(AND(F12="４歳",G12="教育",I12="分園",AE12="○",Q12="",),"○","") | DE12: =IF(AND(F12="３歳",G12="教育",I12="分園",AE12="○",Q12="",),"○","") | DF12: =IF(AND(F12="２歳",G12="教育",I12="分園",AE12="○",Q12="",),"○","") | DG12: =IF(AND(F12="５歳",G12="教育",I12="分園",AE12="○",Q12="○",),"○","") | DH12: =IF(AND(F12="４歳",G12="教育",I12="分園",AE12="○",Q12="○",),"○","") | DI12: =IF(AND(F12="３歳",G12="教育",I12="分園",AE12="○",Q12="○",),"○","") | DJ12: =IF(AND(F12="２歳",G12="教育",I12="分園",AE12="○",Q12="○",),"○","") | DK12: =IF(AND(F12="５歳",G12="教育",I12="分園",O12>0),"○","") | DL12: =IF(AND(F12="４歳",G12="教育",I12="分園",O12>0),"○","") | DM12: =IF(AND(F12="３歳",G12="教育",I12="分園",O12>0),"○","") | DN12: =IF(AND(F12="２歳",G12="教育",I12="分園",O12>0),"○","") | DO12: 標準 | DP12: 短時間 | DQ12: 教育
A13: =ROW()-9 -> 4 | U13: =IF(O13="","",IF(AND(G13="標準",OR(M13="○",K13="○"),I13=""),"※下表に記載必要箇所あり(①)",IF(AND(G13="標準",M13="○",I13="分園"),"※下表に記載必要箇所あり(③)",IF(AND(G13="短時間",OR(M13="○",K13="○"),I13=""),"※下表に記載必要箇所あり(②)","※下表に記載必要箇所あり(④)")))) | AA13: =IF(AND(K13="○",Q13=""),"A","") | AB13: =IF(AND(K13="○",Q13="○"),"B","") | AC13: =IF(AND(K13="",M13="○",Q13=""),"C","") | AD13: =IF(AND(K13="",M13="○",Q13="○"),"D","") | AE13: =IF(OR(K13="○",M13="○"),"","○") -> ○ | AF13: =IF(AND(F13="５歳",G13="標準",I13="",AE13="○",Q13=""),"○","") | AG13: =IF(AND(F13="４歳",G13="標準",I13="",AE13="○",Q13=""),"○","") | AH13: =IF(AND(F13="３歳",G13="標準",I13="",AE13="○",Q13=""),"○","") | AI13: =IF(AND(F13="２歳",G13="標準",I13="",AE13="○",Q13=""),"○","") | AJ13: =IF(AND(F13="１歳",G13="標準",I13="",AE13="○",Q13=""),"○","") | AK13: =IF(AND(F13="乳児",G13="標準",I13="",AE13="○",Q13=""),"○","") | AL13: =IF(AND(F13="５歳",G13="標準",I13="",AE13="○",Q13="○"),"○","") | AM13: =IF(AND(F13="４歳",G13="標準",I13="",AE13="○",Q13="○"),"○","") | AN13: =IF(AND(F13="３歳",G13="標準",I13="",AE13="○",Q13="○"),"○","") | AO13: =IF(AND(F13="５歳",G13="標準",O13>0),"○","") | AP13: =IF(AND(F13="４歳",G13="標準",O13>0),"○","") | AQ13: =IF(AND(F13="３歳",G13="標準",O13>0),"○","") | AR13: =IF(AND(F13="２歳",G13="標準",O13>0),"○","") | AS13: =IF(AND(F13="１歳",G13="標準",O13>0),"○","") | AT13: =IF(AND(F13="乳児",G13="標準",O13>0),"○","") | AU13: =IF(AND(F13="５歳",G13="短時間",I13="",AE13="○",Q13=""),"○","") | AV13: =IF(AND(F13="４歳",G13="短時間",I13="",AE13="○",Q13=""),"○","") | AW13: =IF(AND(F13="３歳",G13="短時間",I13="",AE13="○",Q13=""),"○","") | AX13: =IF(AND(F13="２歳",G13="短時間",I13="",AE13="○",Q13=""),"○","") | AY13: =IF(AND(F13="１歳",G13="短時間",I13="",AE13="○",Q13=""),"○","") | AZ13: =IF(AND(F13="乳児",G13="短時間",I13="",AE13="○",Q13=""),"○","") | BA13: =IF(AND(F13="５歳",G13="短時間",I13="",AE13="○",Q13="○"),"○","") | BB13: =IF(AND(F13="４歳",G13="短時間",I13="",AE13="○",Q13="○"),"○","") | BC13: =IF(AND(F13="３歳",G13="短時間",I13="",AE13="○",Q13="○"),"○","") | BD13: =IF(AND(F13="２歳",G13="短時間",I13="",AE13="○",Q13="○"),"○","") | BE13: =IF(AND(F13="１歳",G13="短時間",I13="",AE13="○",Q13="○"),"○","") | BF13: =IF(AND(F13="乳児",G13="短時間",I13="",AE13="○",Q13="○"),"○","") | BG13: =IF(AND(F13="５歳",G13="短時間",I13="",O13>0),"○","") | BH13: =IF(AND(F13="４歳",G13="短時間",I13="",O13>0),"○","") | BI13: =IF(AND(F13="３歳",G13="短時間",I13="",O13>0),"○","") | BJ13: =IF(AND(F13="２歳",G13="短時間",I13="",O13>0),"○","") | BK13: =IF(AND(F13="１歳",G13="短時間",I13="",O13>0),"○","") | BL13: =IF(AND(F13="乳児",G13="短時間",I13="",O13>0),"○","") | BM13: =IF(AND(F13="５歳",I13="",AE13="○",Q13="",),"○","") | BN13: =IF(AND(F13="４歳",I13="",AE13="○",Q13="",),"○","") | BO13: =IF(AND(F13="３歳",I13="",AE13="○",Q13="",),"○","") | BP13: =IF(AND(F13="２歳",I13="",AE13="○",Q13="",),"○","") | BQ13: =IF(AND(F13="５歳",I13="",AE13="○",Q13="○",),"○","") | BR13: =IF(AND(F13="４歳",I13="",AE13="○",Q13="○",),"○","") | BS13: =IF(AND(F13="３歳",I13="",AE13="○",Q13="○",),"○","") | BT13: =IF(AND(F13="２歳",I13="",AE13="○",Q13="○",),"○","") | BU13: =IF(AND(F13="５歳",G13="教育",O13>0),"○","") | BV13: =IF(AND(F13="４歳",G13="教育",O13>0),"○","") | BW13: =IF(AND(F13="３歳",G13="教育",O13>0),"○","") | BX13: =IF(AND(F13="２歳",G13="教育",O13>0),"○","") | BY13: =IF(AND(F13="５歳",G13="標準",I13="分園",AE13="○",Q13=""),"○","") | BZ13: =IF(AND(F13="４歳",G13="標準",I13="分園",AE13="○",Q13=""),"○","") | CA13: =IF(AND(F13="３歳",G13="標準",I13="分園",AE13="○",Q13=""),"○","") | CB13: =IF(AND(F13="２歳",G13="標準",I13="分園",AE13="○",Q13=""),"○","") | CC13: =IF(AND(F13="１歳",G13="標準",I13="分園",AE13="○",Q13=""),"○","") | CD13: =IF(AND(F13="乳児",G13="標準",I13="分園",AE13="○",Q13=""),"○","") | CE13: =IF(AND(F13="５歳",G13="標準",I13="分園",AE13="○",Q13="○"),"○","") | CF13: =IF(AND(F13="４歳",G13="標準",I13="分園",AE13="○",Q13="○"),"○","") | CG13: =IF(AND(F13="３歳",G13="標準",I13="分園",AE13="○",Q13="○"),"○","") | CH13: =IF(AND(F1419="５歳",G13="教育",I13="分園",O13>0),"○","") | CI13: =IF(AND(F1419="４歳",G13="教育",I13="分園",O13>0),"○","") | CJ13: =IF(AND(F1419="３歳",G13="教育",I13="分園",O13>0),"○","") | CK13: =IF(AND(F1419="２歳",G13="教育",I13="分園",O13>0),"○","") | CL13: =IF(AND(F1419="１歳",G13="教育",I13="分園",O13>0),"○","") | CM13: =IF(AND(F1419="乳児",G13="教育",I13="分園",O13>0),"○","") | CN13: =IF(AND(F13="５歳",G13="短時間",I13="分園",AE13="○",Q13=""),"○","") | CO13: =IF(AND(F13="４歳",G13="短時間",I13="分園",AE13="○",Q13=""),"○","") | CP13: =IF(AND(F13="３歳",G13="短時間",I13="分園",AE13="○",Q13=""),"○","") | CQ13: =IF(AND(F13="２歳",G13="短時間",I13="分園",AE13="○",Q13=""),"○","") | CR13: =IF(AND(F13="１歳",G13="短時間",I13="分園",AE13="○",Q13=""),"○","") | CS13: =IF(AND(F13="乳児",G13="短時間",I13="分園",AE13="○",Q13=""),"○","") | CT13: =IF(AND(F13="５歳",G13="短時間",I13="分園",AE13="○",Q13="○"),"○","") | CU13: =IF(AND(F13="４歳",G13="短時間",I13="分園",AE13="○",Q13="○"),"○","") | CV13: =IF(AND(F13="３歳",G13="短時間",I13="分園",AE13="○",Q13="○"),"○","") | CW13: =IF(AND(F13="５歳",G13="短時間",I13="分園",O13>0),"○","") | CX13: =IF(AND(F13="４歳",G13="短時間",I13="分園",O13>0),"○","") | CY13: =IF(AND(F13="３歳",G13="短時間",I13="分園",O13>0),"○","") | CZ13: =IF(AND(F13="２歳",G13="短時間",I13="分園",O13>0),"○","") | DA13: =IF(AND(F13="１歳",G13="短時間",I13="分園",O13>0),"○","") | DB13: =IF(AND(F13="乳児",G13="短時間",I13="分園",O13>0),"○","") | DC13: =IF(AND(F13="５歳",G13="教育",I13="分園",AE13="○",Q13="",),"○","") | DD13: =IF(AND(F13="４歳",G13="教育",I13="分園",AE13="○",Q13="",),"○","") | DE13: =IF(AND(F13="３歳",G13="教育",I13="分園",AE13="○",Q13="",),"○","") | DF13: =IF(AND(F13="２歳",G13="教育",I13="分園",AE13="○",Q13="",),"○","") | DG13: =IF(AND(F13="５歳",G13="教育",I13="分園",AE13="○",Q13="○",),"○","") | DH13: =IF(AND(F13="４歳",G13="教育",I13="分園",AE13="○",Q13="○",),"○","") | DI13: =IF(AND(F13="３歳",G13="教育",I13="分園",AE13="○",Q13="○",),"○","") | DJ13: =IF(AND(F13="２歳",G13="教育",I13="分園",AE13="○",Q13="○",),"○","") | DK13: =IF(AND(F13="５歳",G13="教育",I13="分園",O13>0),"○","") | DL13: =IF(AND(F13="４歳",G13="教育",I13="分園",O13>0),"○","") | DM13: =IF(AND(F13="３歳",G13="教育",I13="分園",O13>0),"○","") | DN13: =IF(AND(F13="２歳",G13="教育",I13="分園",O13>0),"○","") | DP13: 分園
A14: =ROW()-9 -> 5 | U14: =IF(O14="","",IF(AND(G14="標準",OR(M14="○",K14="○"),I14=""),"※下表に記載必要箇所あり(①)",IF(AND(G14="標準",M14="○",I14="分園"),"※下表に記載必要箇所あり(③)",IF(AND(G14="短時間",OR(M14="○",K14="○"),I14=""),"※下表に記載必要箇所あり(②)","※下表に記載必要箇所あり(④)")))) | AA14: =IF(AND(K14="○",Q14=""),"A","") | AB14: =IF(AND(K14="○",Q14="○"),"B","") | AC14: =IF(AND(K14="",M14="○",Q14=""),"C","") | AD14: =IF(AND(K14="",M14="○",Q14="○"),"D","") | AE14: =IF(OR(K14="○",M14="○"),"","○") -> ○ | AF14: =IF(AND(F14="５歳",G14="標準",I14="",AE14="○",Q14=""),"○","") | AG14: =IF(AND(F14="４歳",G14="標準",I14="",AE14="○",Q14=""),"○","") | AH14: =IF(AND(F14="３歳",G14="標準",I14="",AE14="○",Q14=""),"○","") | AI14: =IF(AND(F14="２歳",G14="標準",I14="",AE14="○",Q14=""),"○","") | AJ14: =IF(AND(F14="１歳",G14="標準",I14="",AE14="○",Q14=""),"○","") | AK14: =IF(AND(F14="乳児",G14="標準",I14="",AE14="○",Q14=""),"○","") | AL14: =IF(AND(F14="５歳",G14="標準",I14="",AE14="○",Q14="○"),"○","") | AM14: =IF(AND(F14="４歳",G14="標準",I14="",AE14="○",Q14="○"),"○","") | AN14: =IF(AND(F14="３歳",G14="標準",I14="",AE14="○",Q14="○"),"○","") | AO14: =IF(AND(F14="５歳",G14="標準",O14>0),"○","") | AP14: =IF(AND(F14="４歳",G14="標準",O14>0),"○","") | AQ14: =IF(AND(F14="３歳",G14="標準",O14>0),"○","") | AR14: =IF(AND(F14="２歳",G14="標準",O14>0),"○","") | AS14: =IF(AND(F14="１歳",G14="標準",O14>0),"○","") | AT14: =IF(AND(F14="乳児",G14="標準",O14>0),"○","") | AU14: =IF(AND(F14="５歳",G14="短時間",I14="",AE14="○",Q14=""),"○","") | AV14: =IF(AND(F14="４歳",G14="短時間",I14="",AE14="○",Q14=""),"○","") | AW14: =IF(AND(F14="３歳",G14="短時間",I14="",AE14="○",Q14=""),"○","") | AX14: =IF(AND(F14="２歳",G14="短時間",I14="",AE14="○",Q14=""),"○","") | AY14: =IF(AND(F14="１歳",G14="短時間",I14="",AE14="○",Q14=""),"○","") | AZ14: =IF(AND(F14="乳児",G14="短時間",I14="",AE14="○",Q14=""),"○","") | BA14: =IF(AND(F14="５歳",G14="短時間",I14="",AE14="○",Q14="○"),"○","") | BB14: =IF(AND(F14="４歳",G14="短時間",I14="",AE14="○",Q14="○"),"○","") | BC14: =IF(AND(F14="３歳",G14="短時間",I14="",AE14="○",Q14="○"),"○","") | BD14: =IF(AND(F14="２歳",G14="短時間",I14="",AE14="○",Q14="○"),"○","") | BE14: =IF(AND(F14="１歳",G14="短時間",I14="",AE14="○",Q14="○"),"○","") | BF14: =IF(AND(F14="乳児",G14="短時間",I14="",AE14="○",Q14="○"),"○","") | BG14: =IF(AND(F14="５歳",G14="短時間",I14="",O14>0),"○","") | BH14: =IF(AND(F14="４歳",G14="短時間",I14="",O14>0),"○","") | BI14: =IF(AND(F14="３歳",G14="短時間",I14="",O14>0),"○","") | BJ14: =IF(AND(F14="２歳",G14="短時間",I14="",O14>0),"○","") | BK14: =IF(AND(F14="１歳",G14="短時間",I14="",O14>0),"○","") | BL14: =IF(AND(F14="乳児",G14="短時間",I14="",O14>0),"○","") | BM14: =IF(AND(F14="５歳",I14="",AE14="○",Q14="",),"○","") | BN14: =IF(AND(F14="４歳",I14="",AE14="○",Q14="",),"○","") | BO14: =IF(AND(F14="３歳",I14="",AE14="○",Q14="",),"○","") | BP14: =IF(AND(F14="２歳",I14="",AE14="○",Q14="",),"○","") | BQ14: =IF(AND(F14="５歳",I14="",AE14="○",Q14="○",),"○","") | BR14: =IF(AND(F14="４歳",I14="",AE14="○",Q14="○",),"○","") | BS14: =IF(AND(F14="３歳",I14="",AE14="○",Q14="○",),"○","") | BT14: =IF(AND(F14="２歳",I14="",AE14="○",Q14="○",),"○","") | BU14: =IF(AND(F14="５歳",G14="教育",O14>0),"○","") | BV14: =IF(AND(F14="４歳",G14="教育",O14>0),"○","") | BW14: =IF(AND(F14="３歳",G14="教育",O14>0),"○","") | BX14: =IF(AND(F14="２歳",G14="教育",O14>0),"○","") | BY14: =IF(AND(F14="５歳",G14="標準",I14="分園",AE14="○",Q14=""),"○","") | BZ14: =IF(AND(F14="４歳",G14="標準",I14="分園",AE14="○",Q14=""),"○","") | CA14: =IF(AND(F14="３歳",G14="標準",I14="分園",AE14="○",Q14=""),"○","") | CB14: =IF(AND(F14="２歳",G14="標準",I14="分園",AE14="○",Q14=""),"○","") | CC14: =IF(AND(F14="１歳",G14="標準",I14="分園",AE14="○",Q14=""),"○","") | CD14: =IF(AND(F14="乳児",G14="標準",I14="分園",AE14="○",Q14=""),"○","") | CE14: =IF(AND(F14="５歳",G14="標準",I14="分園",AE14="○",Q14="○"),"○","") | CF14: =IF(AND(F14="４歳",G14="標準",I14="分園",AE14="○",Q14="○"),"○","") | CG14: =IF(AND(F14="３歳",G14="標準",I14="分園",AE14="○",Q14="○"),"○","") | CH14: =IF(AND(F1420="５歳",G14="教育",I14="分園",O14>0),"○","") | CI14: =IF(AND(F1420="４歳",G14="教育",I14="分園",O14>0),"○","") | CJ14: =IF(AND(F1420="３歳",G14="教育",I14="分園",O14>0),"○","") | CK14: =IF(AND(F1420="２歳",G14="教育",I14="分園",O14>0),"○","") | CL14: =IF(AND(F1420="１歳",G14="教育",I14="分園",O14>0),"○","") | CM14: =IF(AND(F1420="乳児",G14="教育",I14="分園",O14>0),"○","") | CN14: =IF(AND(F14="５歳",G14="短時間",I14="分園",AE14="○",Q14=""),"○","") | CO14: =IF(AND(F14="４歳",G14="短時間",I14="分園",AE14="○",Q14=""),"○","") | CP14: =IF(AND(F14="３歳",G14="短時間",I14="分園",AE14="○",Q14=""),"○","") | CQ14: =IF(AND(F14="２歳",G14="短時間",I14="分園",AE14="○",Q14=""),"○","") | CR14: =IF(AND(F14="１歳",G14="短時間",I14="分園",AE14="○",Q14=""),"○","") | CS14: =IF(AND(F14="乳児",G14="短時間",I14="分園",AE14="○",Q14=""),"○","") | CT14: =IF(AND(F14="５歳",G14="短時間",I14="分園",AE14="○",Q14="○"),"○","") | CU14: =IF(AND(F14="４歳",G14="短時間",I14="分園",AE14="○",Q14="○"),"○","") | CV14: =IF(AND(F14="３歳",G14="短時間",I14="分園",AE14="○",Q14="○"),"○","") | CW14: =IF(AND(F14="５歳",G14="短時間",I14="分園",O14>0),"○","") | CX14: =IF(AND(F14="４歳",G14="短時間",I14="分園",O14>0),"○","") | CY14: =IF(AND(F14="３歳",G14="短時間",I14="分園",O14>0),"○","") | CZ14: =IF(AND(F14="２歳",G14="短時間",I14="分園",O14>0),"○","") | DA14: =IF(AND(F14="１歳",G14="短時間",I14="分園",O14>0),"○","") | DB14: =IF(AND(F14="乳児",G14="短時間",I14="分園",O14>0),"○","") | DC14: =IF(AND(F14="５歳",G14="教育",I14="分園",AE14="○",Q14="",),"○","") | DD14: =IF(AND(F14="４歳",G14="教育",I14="分園",AE14="○",Q14="",),"○","") | DE14: =IF(AND(F14="３歳",G14="教育",I14="分園",AE14="○",Q14="",),"○","") | DF14: =IF(AND(F14="２歳",G14="教育",I14="分園",AE14="○",Q14="",),"○","") | DG14: =IF(AND(F14="５歳",G14="教育",I14="分園",AE14="○",Q14="○",),"○","") | DH14: =IF(AND(F14="４歳",G14="教育",I14="分園",AE14="○",Q14="○",),"○","") | DI14: =IF(AND(F14="３歳",G14="教育",I14="分園",AE14="○",Q14="○",),"○","") | DJ14: =IF(AND(F14="２歳",G14="教育",I14="分園",AE14="○",Q14="○",),"○","") | DK14: =IF(AND(F14="５歳",G14="教育",I14="分園",O14>0),"○","") | DL14: =IF(AND(F14="４歳",G14="教育",I14="分園",O14>0),"○","") | DM14: =IF(AND(F14="３歳",G14="教育",I14="分園",O14>0),"○","") | DN14: =IF(AND(F14="２歳",G14="教育",I14="分園",O14>0),"○","") | DP14: ○
A15: =ROW()-9 -> 6 | U15: =IF(O15="","",IF(AND(G15="標準",OR(M15="○",K15="○"),I15=""),"※下表に記載必要箇所あり(①)",IF(AND(G15="標準",M15="○",I15="分園"),"※下表に記載必要箇所あり(③)",IF(AND(G15="短時間",OR(M15="○",K15="○"),I15=""),"※下表に記載必要箇所あり(②)","※下表に記載必要箇所あり(④)")))) | AA15: =IF(AND(K15="○",Q15=""),"A","") | AB15: =IF(AND(K15="○",Q15="○"),"B","") | AC15: =IF(AND(K15="",M15="○",Q15=""),"C","") | AD15: =IF(AND(K15="",M15="○",Q15="○"),"D","") | AE15: =IF(OR(K15="○",M15="○"),"","○") -> ○ | AF15: =IF(AND(F15="５歳",G15="標準",I15="",AE15="○",Q15=""),"○","") | AG15: =IF(AND(F15="４歳",G15="標準",I15="",AE15="○",Q15=""),"○","") | AH15: =IF(AND(F15="３歳",G15="標準",I15="",AE15="○",Q15=""),"○","") | AI15: =IF(AND(F15="２歳",G15="標準",I15="",AE15="○",Q15=""),"○","") | AJ15: =IF(AND(F15="１歳",G15="標準",I15="",AE15="○",Q15=""),"○","") | AK15: =IF(AND(F15="乳児",G15="標準",I15="",AE15="○",Q15=""),"○","") | AL15: =IF(AND(F15="５歳",G15="標準",I15="",AE15="○",Q15="○"),"○","") | AM15: =IF(AND(F15="４歳",G15="標準",I15="",AE15="○",Q15="○"),"○","") | AN15: =IF(AND(F15="３歳",G15="標準",I15="",AE15="○",Q15="○"),"○","") | AO15: =IF(AND(F15="５歳",G15="標準",O15>0),"○","") | AP15: =IF(AND(F15="４歳",G15="標準",O15>0),"○","") | AQ15: =IF(AND(F15="３歳",G15="標準",O15>0),"○","") | AR15: =IF(AND(F15="２歳",G15="標準",O15>0),"○","") | AS15: =IF(AND(F15="１歳",G15="標準",O15>0),"○","") | AT15: =IF(AND(F15="乳児",G15="標準",O15>0),"○","") | AU15: =IF(AND(F15="５歳",G15="短時間",I15="",AE15="○",Q15=""),"○","") | AV15: =IF(AND(F15="４歳",G15="短時間",I15="",AE15="○",Q15=""),"○","") | AW15: =IF(AND(F15="３歳",G15="短時間",I15="",AE15="○",Q15=""),"○","") | AX15: =IF(AND(F15="２歳",G15="短時間",I15="",AE15="○",Q15=""),"○","") | AY15: =IF(AND(F15="１歳",G15="短時間",I15="",AE15="○",Q15=""),"○","") | AZ15: =IF(AND(F15="乳児",G15="短時間",I15="",AE15="○",Q15=""),"○","") | BA15: =IF(AND(F15="５歳",G15="短時間",I15="",AE15="○",Q15="○"),"○","") | BB15: =IF(AND(F15="４歳",G15="短時間",I15="",AE15="○",Q15="○"),"○","") | BC15: =IF(AND(F15="３歳",G15="短時間",I15="",AE15="○",Q15="○"),"○","") | BD15: =IF(AND(F15="２歳",G15="短時間",I15="",AE15="○",Q15="○"),"○","") | BE15: =IF(AND(F15="１歳",G15="短時間",I15="",AE15="○",Q15="○"),"○","") | BF15: =IF(AND(F15="乳児",G15="短時間",I15="",AE15="○",Q15="○"),"○","") | BG15: =IF(AND(F15="５歳",G15="短時間",I15="",O15>0),"○","") | BH15: =IF(AND(F15="４歳",G15="短時間",I15="",O15>0),"○","") | BI15: =IF(AND(F15="３歳",G15="短時間",I15="",O15>0),"○","") | BJ15: =IF(AND(F15="２歳",G15="短時間",I15="",O15>0),"○","") | BK15: =IF(AND(F15="１歳",G15="短時間",I15="",O15>0),"○","") | BL15: =IF(AND(F15="乳児",G15="短時間",I15="",O15>0),"○","") | BM15: =IF(AND(F15="５歳",I15="",AE15="○",Q15="",),"○","") | BN15: =IF(AND(F15="４歳",I15="",AE15="○",Q15="",),"○","") | BO15: =IF(AND(F15="３歳",I15="",AE15="○",Q15="",),"○","") | BP15: =IF(AND(F15="２歳",I15="",AE15="○",Q15="",),"○","") | BQ15: =IF(AND(F15="５歳",I15="",AE15="○",Q15="○",),"○","") | BR15: =IF(AND(F15="４歳",I15="",AE15="○",Q15="○",),"○","") | BS15: =IF(AND(F15="３歳",I15="",AE15="○",Q15="○",),"○","") | BT15: =IF(AND(F15="２歳",I15="",AE15="○",Q15="○",),"○","") | BU15: =IF(AND(F15="５歳",G15="教育",O15>0),"○","") | BV15: =IF(AND(F15="４歳",G15="教育",O15>0),"○","") | BW15: =IF(AND(F15="３歳",G15="教育",O15>0),"○","") | BX15: =IF(AND(F15="２歳",G15="教育",O15>0),"○","") | BY15: =IF(AND(F15="５歳",G15="標準",I15="分園",AE15="○",Q15=""),"○","") | BZ15: =IF(AND(F15="４歳",G15="標準",I15="分園",AE15="○",Q15=""),"○","") | CA15: =IF(AND(F15="３歳",G15="標準",I15="分園",AE15="○",Q15=""),"○","") | CB15: =IF(AND(F15="２歳",G15="標準",I15="分園",AE15="○",Q15=""),"○","") | CC15: =IF(AND(F15="１歳",G15="標準",I15="分園",AE15="○",Q15=""),"○","") | CD15: =IF(AND(F15="乳児",G15="標準",I15="分園",AE15="○",Q15=""),"○","") | CE15: =IF(AND(F15="５歳",G15="標準",I15="分園",AE15="○",Q15="○"),"○","") | CF15: =IF(AND(F15="４歳",G15="標準",I15="分園",AE15="○",Q15="○"),"○","") | CG15: =IF(AND(F15="３歳",G15="標準",I15="分園",AE15="○",Q15="○"),"○","") | CH15: =IF(AND(F1421="５歳",G15="教育",I15="分園",O15>0),"○","") | CI15: =IF(AND(F1421="４歳",G15="教育",I15="分園",O15>0),"○","") | CJ15: =IF(AND(F1421="３歳",G15="教育",I15="分園",O15>0),"○","") | CK15: =IF(AND(F1421="２歳",G15="教育",I15="分園",O15>0),"○","") | CL15: =IF(AND(F1421="１歳",G15="教育",I15="分園",O15>0),"○","") | CM15: =IF(AND(F1421="乳児",G15="教育",I15="分園",O15>0),"○","") | CN15: =IF(AND(F15="５歳",G15="短時間",I15="分園",AE15="○",Q15=""),"○","") | CO15: =IF(AND(F15="４歳",G15="短時間",I15="分園",AE15="○",Q15=""),"○","") | CP15: =IF(AND(F15="３歳",G15="短時間",I15="分園",AE15="○",Q15=""),"○","") | CQ15: =IF(AND(F15="２歳",G15="短時間",I15="分園",AE15="○",Q15=""),"○","") | CR15: =IF(AND(F15="１歳",G15="短時間",I15="分園",AE15="○",Q15=""),"○","") | CS15: =IF(AND(F15="乳児",G15="短時間",I15="分園",AE15="○",Q15=""),"○","") | CT15: =IF(AND(F15="５歳",G15="短時間",I15="分園",AE15="○",Q15="○"),"○","") | CU15: =IF(AND(F15="４歳",G15="短時間",I15="分園",AE15="○",Q15="○"),"○","") | CV15: =IF(AND(F15="３歳",G15="短時間",I15="分園",AE15="○",Q15="○"),"○","") | CW15: =IF(AND(F15="５歳",G15="短時間",I15="分園",O15>0),"○","") | CX15: =IF(AND(F15="４歳",G15="短時間",I15="分園",O15>0),"○","") | CY15: =IF(AND(F15="３歳",G15="短時間",I15="分園",O15>0),"○","") | CZ15: =IF(AND(F15="２歳",G15="短時間",I15="分園",O15>0),"○","") | DA15: =IF(AND(F15="１歳",G15="短時間",I15="分園",O15>0),"○","") | DB15: =IF(AND(F15="乳児",G15="短時間",I15="分園",O15>0),"○","") | DC15: =IF(AND(F15="５歳",G15="教育",I15="分園",AE15="○",Q15="",),"○","") | DD15: =IF(AND(F15="４歳",G15="教育",I15="分園",AE15="○",Q15="",),"○","") | DE15: =IF(AND(F15="３歳",G15="教育",I15="分園",AE15="○",Q15="",),"○","") | DF15: =IF(AND(F15="２歳",G15="教育",I15="分園",AE15="○",Q15="",),"○","") | DG15: =IF(AND(F15="５歳",G15="教育",I15="分園",AE15="○",Q15="○",),"○","") | DH15: =IF(AND(F15="４歳",G15="教育",I15="分園",AE15="○",Q15="○",),"○","") | DI15: =IF(AND(F15="３歳",G15="教育",I15="分園",AE15="○",Q15="○",),"○","") | DJ15: =IF(AND(F15="２歳",G15="教育",I15="分園",AE15="○",Q15="○",),"○","") | DK15: =IF(AND(F15="５歳",G15="教育",I15="分園",O15>0),"○","") | DL15: =IF(AND(F15="４歳",G15="教育",I15="分園",O15>0),"○","") | DM15: =IF(AND(F15="３歳",G15="教育",I15="分園",O15>0),"○","") | DN15: =IF(AND(F15="２歳",G15="教育",I15="分園",O15>0),"○","") | DP15: 1 | DQ15: 2 | DR15: 3 | DS15: 4 | DT15: 5 | DU15: 6 | DV15: 7 | DW15: 8 | DX15: 9 | DY15: 10 | DZ15: 11 | EA15: 12 | EB15: 13 | EC15: 14 | ED15: 15 | EE15: 16 | EF15: 17 | EG15: 18 | EH15: 19 | EI15: 20 | EJ15: 21 | EK15: 22 | EL15: 23 | EM15: 24 | EN15: 25
A16: =ROW()-9 -> 7 | U16: =IF(O16="","",IF(AND(G16="標準",OR(M16="○",K16="○"),I16=""),"※下表に記載必要箇所あり(①)",IF(AND(G16="標準",M16="○",I16="分園"),"※下表に記載必要箇所あり(③)",IF(AND(G16="短時間",OR(M16="○",K16="○"),I16=""),"※下表に記載必要箇所あり(②)","※下表に記載必要箇所あり(④)")))) | AA16: =IF(AND(K16="○",Q16=""),"A","") | AB16: =IF(AND(K16="○",Q16="○"),"B","") | AC16: =IF(AND(K16="",M16="○",Q16=""),"C","") | AD16: =IF(AND(K16="",M16="○",Q16="○"),"D","") | AE16: =IF(OR(K16="○",M16="○"),"","○") -> ○ | AF16: =IF(AND(F16="５歳",G16="標準",I16="",AE16="○",Q16=""),"○","") | AG16: =IF(AND(F16="４歳",G16="標準",I16="",AE16="○",Q16=""),"○","") | AH16: =IF(AND(F16="３歳",G16="標準",I16="",AE16="○",Q16=""),"○","") | AI16: =IF(AND(F16="２歳",G16="標準",I16="",AE16="○",Q16=""),"○","") | AJ16: =IF(AND(F16="１歳",G16="標準",I16="",AE16="○",Q16=""),"○","") | AK16: =IF(AND(F16="乳児",G16="標準",I16="",AE16="○",Q16=""),"○","") | AL16: =IF(AND(F16="５歳",G16="標準",I16="",AE16="○",Q16="○"),"○","") | AM16: =IF(AND(F16="４歳",G16="標準",I16="",AE16="○",Q16="○"),"○","") | AN16: =IF(AND(F16="３歳",G16="標準",I16="",AE16="○",Q16="○"),"○","") | AO16: =IF(AND(F16="５歳",G16="標準",O16>0),"○","") | AP16: =IF(AND(F16="４歳",G16="標準",O16>0),"○","") | AQ16: =IF(AND(F16="３歳",G16="標準",O16>0),"○","") | AR16: =IF(AND(F16="２歳",G16="標準",O16>0),"○","") | AS16: =IF(AND(F16="１歳",G16="標準",O16>0),"○","") | AT16: =IF(AND(F16="乳児",G16="標準",O16>0),"○","") | AU16: =IF(AND(F16="５歳",G16="短時間",I16="",AE16="○",Q16=""),"○","") | AV16: =IF(AND(F16="４歳",G16="短時間",I16="",AE16="○",Q16=""),"○","") | AW16: =IF(AND(F16="３歳",G16="短時間",I16="",AE16="○",Q16=""),"○","") | AX16: =IF(AND(F16="２歳",G16="短時間",I16="",AE16="○",Q16=""),"○","") | AY16: =IF(AND(F16="１歳",G16="短時間",I16="",AE16="○",Q16=""),"○","") | AZ16: =IF(AND(F16="乳児",G16="短時間",I16="",AE16="○",Q16=""),"○","") | BA16: =IF(AND(F16="５歳",G16="短時間",I16="",AE16="○",Q16="○"),"○","") | BB16: =IF(AND(F16="４歳",G16="短時間",I16="",AE16="○",Q16="○"),"○","") | BC16: =IF(AND(F16="３歳",G16="短時間",I16="",AE16="○",Q16="○"),"○","") | BD16: =IF(AND(F16="２歳",G16="短時間",I16="",AE16="○",Q16="○"),"○","") | BE16: =IF(AND(F16="１歳",G16="短時間",I16="",AE16="○",Q16="○"),"○","") | BF16: =IF(AND(F16="乳児",G16="短時間",I16="",AE16="○",Q16="○"),"○","") | BG16: =IF(AND(F16="５歳",G16="短時間",I16="",O16>0),"○","") | BH16: =IF(AND(F16="４歳",G16="短時間",I16="",O16>0),"○","") | BI16: =IF(AND(F16="３歳",G16="短時間",I16="",O16>0),"○","") | BJ16: =IF(AND(F16="２歳",G16="短時間",I16="",O16>0),"○","") | BK16: =IF(AND(F16="１歳",G16="短時間",I16="",O16>0),"○","") | BL16: =IF(AND(F16="乳児",G16="短時間",I16="",O16>0),"○","") | BM16: =IF(AND(F16="５歳",I16="",AE16="○",Q16="",),"○","") | BN16: =IF(AND(F16="４歳",I16="",AE16="○",Q16="",),"○","") | BO16: =IF(AND(F16="３歳",I16="",AE16="○",Q16="",),"○","") | BP16: =IF(AND(F16="２歳",I16="",AE16="○",Q16="",),"○","") | BQ16: =IF(AND(F16="５歳",I16="",AE16="○",Q16="○",),"○","") | BR16: =IF(AND(F16="４歳",I16="",AE16="○",Q16="○",),"○","") | BS16: =IF(AND(F16="３歳",I16="",AE16="○",Q16="○",),"○","") | BT16: =IF(AND(F16="２歳",I16="",AE16="○",Q16="○",),"○","") | BU16: =IF(AND(F16="５歳",G16="教育",O16>0),"○","") | BV16: =IF(AND(F16="４歳",G16="教育",O16>0),"○","") | BW16: =IF(AND(F16="３歳",G16="教育",O16>0),"○","") | BX16: =IF(AND(F16="２歳",G16="教育",O16>0),"○","") | BY16: =IF(AND(F16="５歳",G16="標準",I16="分園",AE16="○",Q16=""),"○","") | BZ16: =IF(AND(F16="４歳",G16="標準",I16="分園",AE16="○",Q16=""),"○","") | CA16: =IF(AND(F16="３歳",G16="標準",I16="分園",AE16="○",Q16=""),"○","") | CB16: =IF(AND(F16="２歳",G16="標準",I16="分園",AE16="○",Q16=""),"○","") | CC16: =IF(AND(F16="１歳",G16="標準",I16="分園",AE16="○",Q16=""),"○","") | CD16: =IF(AND(F16="乳児",G16="標準",I16="分園",AE16="○",Q16=""),"○","") | CE16: =IF(AND(F16="５歳",G16="標準",I16="分園",AE16="○",Q16="○"),"○","") | CF16: =IF(AND(F16="４歳",G16="標準",I16="分園",AE16="○",Q16="○"),"○","") | CG16: =IF(AND(F16="３歳",G16="標準",I16="分園",AE16="○",Q16="○"),"○","") | CH16: =IF(AND(F1422="５歳",G16="教育",I16="分園",O16>0),"○","") | CI16: =IF(AND(F1422="４歳",G16="教育",I16="分園",O16>0),"○","") | CJ16: =IF(AND(F1422="３歳",G16="教育",I16="分園",O16>0),"○","") | CK16: =IF(AND(F1422="２歳",G16="教育",I16="分園",O16>0),"○","") | CL16: =IF(AND(F1422="１歳",G16="教育",I16="分園",O16>0),"○","") | CM16: =IF(AND(F1422="乳児",G16="教育",I16="分園",O16>0),"○","") | CN16: =IF(AND(F16="５歳",G16="短時間",I16="分園",AE16="○",Q16=""),"○","") | CO16: =IF(AND(F16="４歳",G16="短時間",I16="分園",AE16="○",Q16=""),"○","") | CP16: =IF(AND(F16="３歳",G16="短時間",I16="分園",AE16="○",Q16=""),"○","") | CQ16: =IF(AND(F16="２歳",G16="短時間",I16="分園",AE16="○",Q16=""),"○","") | CR16: =IF(AND(F16="１歳",G16="短時間",I16="分園",AE16="○",Q16=""),"○","") | CS16: =IF(AND(F16="乳児",G16="短時間",I16="分園",AE16="○",Q16=""),"○","") | CT16: =IF(AND(F16="５歳",G16="短時間",I16="分園",AE16="○",Q16="○"),"○","") | CU16: =IF(AND(F16="４歳",G16="短時間",I16="分園",AE16="○",Q16="○"),"○","") | CV16: =IF(AND(F16="３歳",G16="短時間",I16="分園",AE16="○",Q16="○"),"○","") | CW16: =IF(AND(F16="５歳",G16="短時間",I16="分園",O16>0),"○","") | CX16: =IF(AND(F16="４歳",G16="短時間",I16="分園",O16>0),"○","") | CY16: =IF(AND(F16="３歳",G16="短時間",I16="分園",O16>0),"○","") | CZ16: =IF(AND(F16="２歳",G16="短時間",I16="分園",O16>0),"○","") | DA16: =IF(AND(F16="１歳",G16="短時間",I16="分園",O16>0),"○","") | DB16: =IF(AND(F16="乳児",G16="短時間",I16="分園",O16>0),"○","") | DC16: =IF(AND(F16="５歳",G16="教育",I16="分園",AE16="○",Q16="",),"○","") | DD16: =IF(AND(F16="４歳",G16="教育",I16="分園",AE16="○",Q16="",),"○","") | DE16: =IF(AND(F16="３歳",G16="教育",I16="分園",AE16="○",Q16="",),"○","") | DF16: =IF(AND(F16="２歳",G16="教育",I16="分園",AE16="○",Q16="",),"○","") | DG16: =IF(AND(F16="５歳",G16="教育",I16="分園",AE16="○",Q16="○",),"○","") | DH16: =IF(AND(F16="４歳",G16="教育",I16="分園",AE16="○",Q16="○",),"○","") | DI16: =IF(AND(F16="３歳",G16="教育",I16="分園",AE16="○",Q16="○",),"○","") | DJ16: =IF(AND(F16="２歳",G16="教育",I16="分園",AE16="○",Q16="○",),"○","") | DK16: =IF(AND(F16="５歳",G16="教育",I16="分園",O16>0),"○","") | DL16: =IF(AND(F16="４歳",G16="教育",I16="分園",O16>0),"○","") | DM16: =IF(AND(F16="３歳",G16="教育",I16="分園",O16>0),"○","") | DN16: =IF(AND(F16="２歳",G16="教育",I16="分園",O16>0),"○","")
A17: =ROW()-9 -> 8 | U17: =IF(O17="","",IF(AND(G17="標準",OR(M17="○",K17="○"),I17=""),"※下表に記載必要箇所あり(①)",IF(AND(G17="標準",M17="○",I17="分園"),"※下表に記載必要箇所あり(③)",IF(AND(G17="短時間",OR(M17="○",K17="○"),I17=""),"※下表に記載必要箇所あり(②)","※下表に記載必要箇所あり(④)")))) | AA17: =IF(AND(K17="○",Q17=""),"A","") | AB17: =IF(AND(K17="○",Q17="○"),"B","") | AC17: =IF(AND(K17="",M17="○",Q17=""),"C","") | AD17: =IF(AND(K17="",M17="○",Q17="○"),"D","") | AE17: =IF(OR(K17="○",M17="○"),"","○") -> ○ | AF17: =IF(AND(F17="５歳",G17="標準",I17="",AE17="○",Q17=""),"○","") | AG17: =IF(AND(F17="４歳",G17="標準",I17="",AE17="○",Q17=""),"○","") | AH17: =IF(AND(F17="３歳",G17="標準",I17="",AE17="○",Q17=""),"○","") | AI17: =IF(AND(F17="２歳",G17="標準",I17="",AE17="○",Q17=""),"○","") | AJ17: =IF(AND(F17="１歳",G17="標準",I17="",AE17="○",Q17=""),"○","") | AK17: =IF(AND(F17="乳児",G17="標準",I17="",AE17="○",Q17=""),"○","") | AL17: =IF(AND(F17="５歳",G17="標準",I17="",AE17="○",Q17="○"),"○","") | AM17: =IF(AND(F17="４歳",G17="標準",I17="",AE17="○",Q17="○"),"○","") | AN17: =IF(AND(F17="３歳",G17="標準",I17="",AE17="○",Q17="○"),"○","") | AO17: =IF(AND(F17="５歳",G17="標準",O17>0),"○","") | AP17: =IF(AND(F17="４歳",G17="標準",O17>0),"○","") | AQ17: =IF(AND(F17="３歳",G17="標準",O17>0),"○","") | AR17: =IF(AND(F17="２歳",G17="標準",O17>0),"○","") | AS17: =IF(AND(F17="１歳",G17="標準",O17>0),"○","") | AT17: =IF(AND(F17="乳児",G17="標準",O17>0),"○","") | AU17: =IF(AND(F17="５歳",G17="短時間",I17="",AE17="○",Q17=""),"○","") | AV17: =IF(AND(F17="４歳",G17="短時間",I17="",AE17="○",Q17=""),"○","") | AW17: =IF(AND(F17="３歳",G17="短時間",I17="",AE17="○",Q17=""),"○","") | AX17: =IF(AND(F17="２歳",G17="短時間",I17="",AE17="○",Q17=""),"○","") | AY17: =IF(AND(F17="１歳",G17="短時間",I17="",AE17="○",Q17=""),"○","") | AZ17: =IF(AND(F17="乳児",G17="短時間",I17="",AE17="○",Q17=""),"○","") | BA17: =IF(AND(F17="５歳",G17="短時間",I17="",AE17="○",Q17="○"),"○","") | BB17: =IF(AND(F17="４歳",G17="短時間",I17="",AE17="○",Q17="○"),"○","") | BC17: =IF(AND(F17="３歳",G17="短時間",I17="",AE17="○",Q17="○"),"○","") | BD17: =IF(AND(F17="２歳",G17="短時間",I17="",AE17="○",Q17="○"),"○","") | BE17: =IF(AND(F17="１歳",G17="短時間",I17="",AE17="○",Q17="○"),"○","") | BF17: =IF(AND(F17="乳児",G17="短時間",I17="",AE17="○",Q17="○"),"○","") | BG17: =IF(AND(F17="５歳",G17="短時間",I17="",O17>0),"○","") | BH17: =IF(AND(F17="４歳",G17="短時間",I17="",O17>0),"○","") | BI17: =IF(AND(F17="３歳",G17="短時間",I17="",O17>0),"○","") | BJ17: =IF(AND(F17="２歳",G17="短時間",I17="",O17>0),"○","") | BK17: =IF(AND(F17="１歳",G17="短時間",I17="",O17>0),"○","") | BL17: =IF(AND(F17="乳児",G17="短時間",I17="",O17>0),"○","") | BM17: =IF(AND(F17="５歳",I17="",AE17="○",Q17="",),"○","") | BN17: =IF(AND(F17="４歳",I17="",AE17="○",Q17="",),"○","") | BO17: =IF(AND(F17="３歳",I17="",AE17="○",Q17="",),"○","") | BP17: =IF(AND(F17="２歳",I17="",AE17="○",Q17="",),"○","") | BQ17: =IF(AND(F17="５歳",I17="",AE17="○",Q17="○",),"○","") | BR17: =IF(AND(F17="４歳",I17="",AE17="○",Q17="○",),"○","") | BS17: =IF(AND(F17="３歳",I17="",AE17="○",Q17="○",),"○","") | BT17: =IF(AND(F17="２歳",I17="",AE17="○",Q17="○",),"○","") | BU17: =IF(AND(F17="５歳",G17="教育",O17>0),"○","") | BV17: =IF(AND(F17="４歳",G17="教育",O17>0),"○","") | BW17: =IF(AND(F17="３歳",G17="教育",O17>0),"○","") | BX17: =IF(AND(F17="２歳",G17="教育",O17>0),"○","") | BY17: =IF(AND(F17="５歳",G17="標準",I17="分園",AE17="○",Q17=""),"○","") | BZ17: =IF(AND(F17="４歳",G17="標準",I17="分園",AE17="○",Q17=""),"○","") | CA17: =IF(AND(F17="３歳",G17="標準",I17="分園",AE17="○",Q17=""),"○","") | CB17: =IF(AND(F17="２歳",G17="標準",I17="分園",AE17="○",Q17=""),"○","") | CC17: =IF(AND(F17="１歳",G17="標準",I17="分園",AE17="○",Q17=""),"○","") | CD17: =IF(AND(F17="乳児",G17="標準",I17="分園",AE17="○",Q17=""),"○","") | CE17: =IF(AND(F17="５歳",G17="標準",I17="分園",AE17="○",Q17="○"),"○","") | CF17: =IF(AND(F17="４歳",G17="標準",I17="分園",AE17="○",Q17="○"),"○","") | CG17: =IF(AND(F17="３歳",G17="標準",I17="分園",AE17="○",Q17="○"),"○","") | CH17: =IF(AND(F1423="５歳",G17="教育",I17="分園",O17>0),"○","") | CI17: =IF(AND(F1423="４歳",G17="教育",I17="分園",O17>0),"○","") | CJ17: =IF(AND(F1423="３歳",G17="教育",I17="分園",O17>0),"○","") | CK17: =IF(AND(F1423="２歳",G17="教育",I17="分園",O17>0),"○","") | CL17: =IF(AND(F1423="１歳",G17="教育",I17="分園",O17>0),"○","") | CM17: =IF(AND(F1423="乳児",G17="教育",I17="分園",O17>0),"○","") | CN17: =IF(AND(F17="５歳",G17="短時間",I17="分園",AE17="○",Q17=""),"○","") | CO17: =IF(AND(F17="４歳",G17="短時間",I17="分園",AE17="○",Q17=""),"○","") | CP17: =IF(AND(F17="３歳",G17="短時間",I17="分園",AE17="○",Q17=""),"○","") | CQ17: =IF(AND(F17="２歳",G17="短時間",I17="分園",AE17="○",Q17=""),"○","") | CR17: =IF(AND(F17="１歳",G17="短時間",I17="分園",AE17="○",Q17=""),"○","") | CS17: =IF(AND(F17="乳児",G17="短時間",I17="分園",AE17="○",Q17=""),"○","") | CT17: =IF(AND(F17="５歳",G17="短時間",I17="分園",AE17="○",Q17="○"),"○","") | CU17: =IF(AND(F17="４歳",G17="短時間",I17="分園",AE17="○",Q17="○"),"○","") | CV17: =IF(AND(F17="３歳",G17="短時間",I17="分園",AE17="○",Q17="○"),"○","") | CW17: =IF(AND(F17="５歳",G17="短時間",I17="分園",O17>0),"○","") | CX17: =IF(AND(F17="４歳",G17="短時間",I17="分園",O17>0),"○","") | CY17: =IF(AND(F17="３歳",G17="短時間",I17="分園",O17>0),"○","") | CZ17: =IF(AND(F17="２歳",G17="短時間",I17="分園",O17>0),"○","") | DA17: =IF(AND(F17="１歳",G17="短時間",I17="分園",O17>0),"○","") | DB17: =IF(AND(F17="乳児",G17="短時間",I17="分園",O17>0),"○","") | DC17: =IF(AND(F17="５歳",G17="教育",I17="分園",AE17="○",Q17="",),"○","") | DD17: =IF(AND(F17="４歳",G17="教育",I17="分園",AE17="○",Q17="",),"○","") | DE17: =IF(AND(F17="３歳",G17="教育",I17="分園",AE17="○",Q17="",),"○","") | DF17: =IF(AND(F17="２歳",G17="教育",I17="分園",AE17="○",Q17="",),"○","") | DG17: =IF(AND(F17="５歳",G17="教育",I17="分園",AE17="○",Q17="○",),"○","") | DH17: =IF(AND(F17="４歳",G17="教育",I17="分園",AE17="○",Q17="○",),"○","") | DI17: =IF(AND(F17="３歳",G17="教育",I17="分園",AE17="○",Q17="○",),"○","") | DJ17: =IF(AND(F17="２歳",G17="教育",I17="分園",AE17="○",Q17="○",),"○","") | DK17: =IF(AND(F17="５歳",G17="教育",I17="分園",O17>0),"○","") | DL17: =IF(AND(F17="４歳",G17="教育",I17="分園",O17>0),"○","") | DM17: =IF(AND(F17="３歳",G17="教育",I17="分園",O17>0),"○","") | DN17: =IF(AND(F17="２歳",G17="教育",I17="分園",O17>0),"○","")
A18: =ROW()-9 -> 9 | U18: =IF(O18="","",IF(AND(G18="標準",OR(M18="○",K18="○"),I18=""),"※下表に記載必要箇所あり(①)",IF(AND(G18="標準",M18="○",I18="分園"),"※下表に記載必要箇所あり(③)",IF(AND(G18="短時間",OR(M18="○",K18="○"),I18=""),"※下表に記載必要箇所あり(②)","※下表に記載必要箇所あり(④)")))) | AA18: =IF(AND(K18="○",Q18=""),"A","") | AB18: =IF(AND(K18="○",Q18="○"),"B","") | AC18: =IF(AND(K18="",M18="○",Q18=""),"C","") | AD18: =IF(AND(K18="",M18="○",Q18="○"),"D","") | AE18: =IF(OR(K18="○",M18="○"),"","○") -> ○ | AF18: =IF(AND(F18="５歳",G18="標準",I18="",AE18="○",Q18=""),"○","") | AG18: =IF(AND(F18="４歳",G18="標準",I18="",AE18="○",Q18=""),"○","") | AH18: =IF(AND(F18="３歳",G18="標準",I18="",AE18="○",Q18=""),"○","") | AI18: =IF(AND(F18="２歳",G18="標準",I18="",AE18="○",Q18=""),"○","") | AJ18: =IF(AND(F18="１歳",G18="標準",I18="",AE18="○",Q18=""),"○","") | AK18: =IF(AND(F18="乳児",G18="標準",I18="",AE18="○",Q18=""),"○","") | AL18: =IF(AND(F18="５歳",G18="標準",I18="",AE18="○",Q18="○"),"○","") | AM18: =IF(AND(F18="４歳",G18="標準",I18="",AE18="○",Q18="○"),"○","") | AN18: =IF(AND(F18="３歳",G18="標準",I18="",AE18="○",Q18="○"),"○","") | AO18: =IF(AND(F18="５歳",G18="標準",O18>0),"○","") | AP18: =IF(AND(F18="４歳",G18="標準",O18>0),"○","") | AQ18: =IF(AND(F18="３歳",G18="標準",O18>0),"○","") | AR18: =IF(AND(F18="２歳",G18="標準",O18>0),"○","") | AS18: =IF(AND(F18="１歳",G18="標準",O18>0),"○","") | AT18: =IF(AND(F18="乳児",G18="標準",O18>0),"○","") | AU18: =IF(AND(F18="５歳",G18="短時間",I18="",AE18="○",Q18=""),"○","") | AV18: =IF(AND(F18="４歳",G18="短時間",I18="",AE18="○",Q18=""),"○","") | AW18: =IF(AND(F18="３歳",G18="短時間",I18="",AE18="○",Q18=""),"○","") | AX18: =IF(AND(F18="２歳",G18="短時間",I18="",AE18="○",Q18=""),"○","") | AY18: =IF(AND(F18="１歳",G18="短時間",I18="",AE18="○",Q18=""),"○","") | AZ18: =IF(AND(F18="乳児",G18="短時間",I18="",AE18="○",Q18=""),"○","") | BA18: =IF(AND(F18="５歳",G18="短時間",I18="",AE18="○",Q18="○"),"○","") | BB18: =IF(AND(F18="４歳",G18="短時間",I18="",AE18="○",Q18="○"),"○","") | BC18: =IF(AND(F18="３歳",G18="短時間",I18="",AE18="○",Q18="○"),"○","") | BD18: =IF(AND(F18="２歳",G18="短時間",I18="",AE18="○",Q18="○"),"○","") | BE18: =IF(AND(F18="１歳",G18="短時間",I18="",AE18="○",Q18="○"),"○","") | BF18: =IF(AND(F18="乳児",G18="短時間",I18="",AE18="○",Q18="○"),"○","") | BG18: =IF(AND(F18="５歳",G18="短時間",I18="",O18>0),"○","") | BH18: =IF(AND(F18="４歳",G18="短時間",I18="",O18>0),"○","") | BI18: =IF(AND(F18="３歳",G18="短時間",I18="",O18>0),"○","") | BJ18: =IF(AND(F18="２歳",G18="短時間",I18="",O18>0),"○","") | BK18: =IF(AND(F18="１歳",G18="短時間",I18="",O18>0),"○","") | BL18: =IF(AND(F18="乳児",G18="短時間",I18="",O18>0),"○","") | BM18: =IF(AND(F18="５歳",I18="",AE18="○",Q18="",),"○","") | BN18: =IF(AND(F18="４歳",I18="",AE18="○",Q18="",),"○","") | BO18: =IF(AND(F18="３歳",I18="",AE18="○",Q18="",),"○","") | BP18: =IF(AND(F18="２歳",I18="",AE18="○",Q18="",),"○","") | BQ18: =IF(AND(F18="５歳",I18="",AE18="○",Q18="○",),"○","") | BR18: =IF(AND(F18="４歳",I18="",AE18="○",Q18="○",),"○","") | BS18: =IF(AND(F18="３歳",I18="",AE18="○",Q18="○",),"○","") | BT18: =IF(AND(F18="２歳",I18="",AE18="○",Q18="○",),"○","") | BU18: =IF(AND(F18="５歳",G18="教育",O18>0),"○","") | BV18: =IF(AND(F18="４歳",G18="教育",O18>0),"○","") | BW18: =IF(AND(F18="３歳",G18="教育",O18>0),"○","") | BX18: =IF(AND(F18="２歳",G18="教育",O18>0),"○","") | BY18: =IF(AND(F18="５歳",G18="標準",I18="分園",AE18="○",Q18=""),"○","") | BZ18: =IF(AND(F18="４歳",G18="標準",I18="分園",AE18="○",Q18=""),"○","") | CA18: =IF(AND(F18="３歳",G18="標準",I18="分園",AE18="○",Q18=""),"○","") | CB18: =IF(AND(F18="２歳",G18="標準",I18="分園",AE18="○",Q18=""),"○","") | CC18: =IF(AND(F18="１歳",G18="標準",I18="分園",AE18="○",Q18=""),"○","") | CD18: =IF(AND(F18="乳児",G18="標準",I18="分園",AE18="○",Q18=""),"○","") | CE18: =IF(AND(F18="５歳",G18="標準",I18="分園",AE18="○",Q18="○"),"○","") | CF18: =IF(AND(F18="４歳",G18="標準",I18="分園",AE18="○",Q18="○"),"○","") | CG18: =IF(AND(F18="３歳",G18="標準",I18="分園",AE18="○",Q18="○"),"○","") | CH18: =IF(AND(F1424="５歳",G18="教育",I18="分園",O18>0),"○","") | CI18: =IF(AND(F1424="４歳",G18="教育",I18="分園",O18>0),"○","") | CJ18: =IF(AND(F1424="３歳",G18="教育",I18="分園",O18>0),"○","") | CK18: =IF(AND(F1424="２歳",G18="教育",I18="分園",O18>0),"○","") | CL18: =IF(AND(F1424="１歳",G18="教育",I18="分園",O18>0),"○","") | CM18: =IF(AND(F1424="乳児",G18="教育",I18="分園",O18>0),"○","") | CN18: =IF(AND(F18="５歳",G18="短時間",I18="分園",AE18="○",Q18=""),"○","") | CO18: =IF(AND(F18="４歳",G18="短時間",I18="分園",AE18="○",Q18=""),"○","") | CP18: =IF(AND(F18="３歳",G18="短時間",I18="分園",AE18="○",Q18=""),"○","") | CQ18: =IF(AND(F18="２歳",G18="短時間",I18="分園",AE18="○",Q18=""),"○","") | CR18: =IF(AND(F18="１歳",G18="短時間",I18="分園",AE18="○",Q18=""),"○","") | CS18: =IF(AND(F18="乳児",G18="短時間",I18="分園",AE18="○",Q18=""),"○","") | CT18: =IF(AND(F18="５歳",G18="短時間",I18="分園",AE18="○",Q18="○"),"○","") | CU18: =IF(AND(F18="４歳",G18="短時間",I18="分園",AE18="○",Q18="○"),"○","") | CV18: =IF(AND(F18="３歳",G18="短時間",I18="分園",AE18="○",Q18="○"),"○","") | CW18: =IF(AND(F18="５歳",G18="短時間",I18="分園",O18>0),"○","") | CX18: =IF(AND(F18="４歳",G18="短時間",I18="分園",O18>0),"○","") | CY18: =IF(AND(F18="３歳",G18="短時間",I18="分園",O18>0),"○","") | CZ18: =IF(AND(F18="２歳",G18="短時間",I18="分園",O18>0),"○","") | DA18: =IF(AND(F18="１歳",G18="短時間",I18="分園",O18>0),"○","") | DB18: =IF(AND(F18="乳児",G18="短時間",I18="分園",O18>0),"○","") | DC18: =IF(AND(F18="５歳",G18="教育",I18="分園",AE18="○",Q18="",),"○","") | DD18: =IF(AND(F18="４歳",G18="教育",I18="分園",AE18="○",Q18="",),"○","") | DE18: =IF(AND(F18="３歳",G18="教育",I18="分園",AE18="○",Q18="",),"○","") | DF18: =IF(AND(F18="２歳",G18="教育",I18="分園",AE18="○",Q18="",),"○","") | DG18: =IF(AND(F18="５歳",G18="教育",I18="分園",AE18="○",Q18="○",),"○","") | DH18: =IF(AND(F18="４歳",G18="教育",I18="分園",AE18="○",Q18="○",),"○","") | DI18: =IF(AND(F18="３歳",G18="教育",I18="分園",AE18="○",Q18="○",),"○","") | DJ18: =IF(AND(F18="２歳",G18="教育",I18="分園",AE18="○",Q18="○",),"○","") | DK18: =IF(AND(F18="５歳",G18="教育",I18="分園",O18>0),"○","") | DL18: =IF(AND(F18="４歳",G18="教育",I18="分園",O18>0),"○","") | DM18: =IF(AND(F18="３歳",G18="教育",I18="分園",O18>0),"○","") | DN18: =IF(AND(F18="２歳",G18="教育",I18="分園",O18>0),"○","")
